BEGIN:VCALENDAR
VERSION:2.0
PRODID:-//OHO East of The River - ECPv6.15.18//NONSGML v1.0//EN
CALSCALE:GREGORIAN
METHOD:PUBLISH
X-WR-CALNAME:OHO East of The River
X-ORIGINAL-URL:https://ohoeastoftheriver.com
X-WR-CALDESC:Events for OHO East of The River
REFRESH-INTERVAL;VALUE=DURATION:PT1H
X-Robots-Tag:noindex
X-PUBLISHED-TTL:PT1H
BEGIN:VTIMEZONE
TZID:America/New_York
BEGIN:DAYLIGHT
TZOFFSETFROM:-0500
TZOFFSETTO:-0400
TZNAME:EDT
DTSTART:20250309T070000
END:DAYLIGHT
BEGIN:STANDARD
TZOFFSETFROM:-0400
TZOFFSETTO:-0500
TZNAME:EST
DTSTART:20251102T060000
END:STANDARD
BEGIN:DAYLIGHT
TZOFFSETFROM:-0500
TZOFFSETTO:-0400
TZNAME:EDT
DTSTART:20260308T070000
END:DAYLIGHT
BEGIN:STANDARD
TZOFFSETFROM:-0400
TZOFFSETTO:-0500
TZNAME:EST
DTSTART:20261101T060000
END:STANDARD
BEGIN:DAYLIGHT
TZOFFSETFROM:-0500
TZOFFSETTO:-0400
TZNAME:EDT
DTSTART:20270314T070000
END:DAYLIGHT
BEGIN:STANDARD
TZOFFSETFROM:-0400
TZOFFSETTO:-0500
TZNAME:EST
DTSTART:20271107T060000
END:STANDARD
BEGIN:DAYLIGHT
TZOFFSETFROM:-0500
TZOFFSETTO:-0400
TZNAME:EDT
DTSTART:20280312T070000
END:DAYLIGHT
BEGIN:STANDARD
TZOFFSETFROM:-0400
TZOFFSETTO:-0500
TZNAME:EST
DTSTART:20281105T060000
END:STANDARD
BEGIN:DAYLIGHT
TZOFFSETFROM:-0500
TZOFFSETTO:-0400
TZNAME:EDT
DTSTART:20290311T070000
END:DAYLIGHT
BEGIN:STANDARD
TZOFFSETFROM:-0400
TZOFFSETTO:-0500
TZNAME:EST
DTSTART:20291104T060000
END:STANDARD
END:VTIMEZONE
BEGIN:VEVENT
DTSTART;TZID=America/New_York:20261230T180000
DTEND;TZID=America/New_York:20261230T200000
DTSTAMP:20260420T201149
CREATED:20250203T173202Z
LAST-MODIFIED:20250203T182042Z
UID:10013449-1798653600-1798660800@ohoeastoftheriver.com
SUMMARY:W8CED Think Tank- Men's Support Group
DESCRIPTION:
URL:https://ohoeastoftheriver.com/announcement/w8ced-think-tank-mens-support-group/2026-12-30/
LOCATION:Black Worker Center\, 2500 Martin Luther King Jr. Ave SE\, Washington\, DC\, 20020\, United States
CATEGORIES:W8CED
ATTACH;FMTTYPE=image/png:https://ohoeastoftheriver.com/wp-content/uploads/2025/02/W8CED-Think-Tank-Mens-Support-Group-header.png
END:VEVENT
BEGIN:VEVENT
DTSTART;TZID=America/New_York:20270120T180000
DTEND;TZID=America/New_York:20270120T200000
DTSTAMP:20260420T201149
CREATED:20250203T173202Z
LAST-MODIFIED:20250203T182042Z
UID:10013450-1800468000-1800475200@ohoeastoftheriver.com
SUMMARY:W8CED Think Tank- Men's Support Group
DESCRIPTION:
URL:https://ohoeastoftheriver.com/announcement/w8ced-think-tank-mens-support-group/2027-01-20/
LOCATION:Black Worker Center\, 2500 Martin Luther King Jr. Ave SE\, Washington\, DC\, 20020\, United States
CATEGORIES:W8CED
ATTACH;FMTTYPE=image/png:https://ohoeastoftheriver.com/wp-content/uploads/2025/02/W8CED-Think-Tank-Mens-Support-Group-header.png
END:VEVENT
BEGIN:VEVENT
DTSTART;TZID=America/New_York:20270210T180000
DTEND;TZID=America/New_York:20270210T200000
DTSTAMP:20260420T201149
CREATED:20250203T173202Z
LAST-MODIFIED:20250203T182042Z
UID:10013451-1802282400-1802289600@ohoeastoftheriver.com
SUMMARY:W8CED Think Tank- Men's Support Group
DESCRIPTION:
URL:https://ohoeastoftheriver.com/announcement/w8ced-think-tank-mens-support-group/2027-02-10/
LOCATION:Black Worker Center\, 2500 Martin Luther King Jr. Ave SE\, Washington\, DC\, 20020\, United States
CATEGORIES:W8CED
ATTACH;FMTTYPE=image/png:https://ohoeastoftheriver.com/wp-content/uploads/2025/02/W8CED-Think-Tank-Mens-Support-Group-header.png
END:VEVENT
BEGIN:VEVENT
DTSTART;TZID=America/New_York:20270303T180000
DTEND;TZID=America/New_York:20270303T200000
DTSTAMP:20260420T201149
CREATED:20250203T173202Z
LAST-MODIFIED:20250203T182042Z
UID:10013452-1804096800-1804104000@ohoeastoftheriver.com
SUMMARY:W8CED Think Tank- Men's Support Group
DESCRIPTION:
URL:https://ohoeastoftheriver.com/announcement/w8ced-think-tank-mens-support-group/2027-03-03/
LOCATION:Black Worker Center\, 2500 Martin Luther King Jr. Ave SE\, Washington\, DC\, 20020\, United States
CATEGORIES:W8CED
ATTACH;FMTTYPE=image/png:https://ohoeastoftheriver.com/wp-content/uploads/2025/02/W8CED-Think-Tank-Mens-Support-Group-header.png
END:VEVENT
BEGIN:VEVENT
DTSTART;TZID=America/New_York:20270324T180000
DTEND;TZID=America/New_York:20270324T200000
DTSTAMP:20260420T201149
CREATED:20250203T173202Z
LAST-MODIFIED:20250203T182042Z
UID:10013453-1805911200-1805918400@ohoeastoftheriver.com
SUMMARY:W8CED Think Tank- Men's Support Group
DESCRIPTION:
URL:https://ohoeastoftheriver.com/announcement/w8ced-think-tank-mens-support-group/2027-03-24/
LOCATION:Black Worker Center\, 2500 Martin Luther King Jr. Ave SE\, Washington\, DC\, 20020\, United States
CATEGORIES:W8CED
ATTACH;FMTTYPE=image/png:https://ohoeastoftheriver.com/wp-content/uploads/2025/02/W8CED-Think-Tank-Mens-Support-Group-header.png
END:VEVENT
BEGIN:VEVENT
DTSTART;TZID=America/New_York:20270414T180000
DTEND;TZID=America/New_York:20270414T200000
DTSTAMP:20260420T201149
CREATED:20250203T173202Z
LAST-MODIFIED:20250203T182042Z
UID:10013454-1807725600-1807732800@ohoeastoftheriver.com
SUMMARY:W8CED Think Tank- Men's Support Group
DESCRIPTION:
URL:https://ohoeastoftheriver.com/announcement/w8ced-think-tank-mens-support-group/2027-04-14/
LOCATION:Black Worker Center\, 2500 Martin Luther King Jr. Ave SE\, Washington\, DC\, 20020\, United States
CATEGORIES:W8CED
ATTACH;FMTTYPE=image/png:https://ohoeastoftheriver.com/wp-content/uploads/2025/02/W8CED-Think-Tank-Mens-Support-Group-header.png
END:VEVENT
BEGIN:VEVENT
DTSTART;TZID=America/New_York:20270505T180000
DTEND;TZID=America/New_York:20270505T200000
DTSTAMP:20260420T201149
CREATED:20250203T173202Z
LAST-MODIFIED:20250203T182042Z
UID:10013455-1809540000-1809547200@ohoeastoftheriver.com
SUMMARY:W8CED Think Tank- Men's Support Group
DESCRIPTION:
URL:https://ohoeastoftheriver.com/announcement/w8ced-think-tank-mens-support-group/2027-05-05/
LOCATION:Black Worker Center\, 2500 Martin Luther King Jr. Ave SE\, Washington\, DC\, 20020\, United States
CATEGORIES:W8CED
ATTACH;FMTTYPE=image/png:https://ohoeastoftheriver.com/wp-content/uploads/2025/02/W8CED-Think-Tank-Mens-Support-Group-header.png
END:VEVENT
BEGIN:VEVENT
DTSTART;TZID=America/New_York:20270526T180000
DTEND;TZID=America/New_York:20270526T200000
DTSTAMP:20260420T201149
CREATED:20250203T173202Z
LAST-MODIFIED:20250203T182042Z
UID:10013456-1811354400-1811361600@ohoeastoftheriver.com
SUMMARY:W8CED Think Tank- Men's Support Group
DESCRIPTION:
URL:https://ohoeastoftheriver.com/announcement/w8ced-think-tank-mens-support-group/2027-05-26/
LOCATION:Black Worker Center\, 2500 Martin Luther King Jr. Ave SE\, Washington\, DC\, 20020\, United States
CATEGORIES:W8CED
ATTACH;FMTTYPE=image/png:https://ohoeastoftheriver.com/wp-content/uploads/2025/02/W8CED-Think-Tank-Mens-Support-Group-header.png
END:VEVENT
BEGIN:VEVENT
DTSTART;TZID=America/New_York:20270616T180000
DTEND;TZID=America/New_York:20270616T200000
DTSTAMP:20260420T201149
CREATED:20250203T173202Z
LAST-MODIFIED:20250203T182042Z
UID:10013457-1813168800-1813176000@ohoeastoftheriver.com
SUMMARY:W8CED Think Tank- Men's Support Group
DESCRIPTION:
URL:https://ohoeastoftheriver.com/announcement/w8ced-think-tank-mens-support-group/2027-06-16/
LOCATION:Black Worker Center\, 2500 Martin Luther King Jr. Ave SE\, Washington\, DC\, 20020\, United States
CATEGORIES:W8CED
ATTACH;FMTTYPE=image/png:https://ohoeastoftheriver.com/wp-content/uploads/2025/02/W8CED-Think-Tank-Mens-Support-Group-header.png
END:VEVENT
BEGIN:VEVENT
DTSTART;TZID=America/New_York:20270707T180000
DTEND;TZID=America/New_York:20270707T200000
DTSTAMP:20260420T201149
CREATED:20250203T173202Z
LAST-MODIFIED:20250203T182042Z
UID:10013458-1814983200-1814990400@ohoeastoftheriver.com
SUMMARY:W8CED Think Tank- Men's Support Group
DESCRIPTION:
URL:https://ohoeastoftheriver.com/announcement/w8ced-think-tank-mens-support-group/2027-07-07/
LOCATION:Black Worker Center\, 2500 Martin Luther King Jr. Ave SE\, Washington\, DC\, 20020\, United States
CATEGORIES:W8CED
ATTACH;FMTTYPE=image/png:https://ohoeastoftheriver.com/wp-content/uploads/2025/02/W8CED-Think-Tank-Mens-Support-Group-header.png
END:VEVENT
BEGIN:VEVENT
DTSTART;TZID=America/New_York:20270728T180000
DTEND;TZID=America/New_York:20270728T200000
DTSTAMP:20260420T201149
CREATED:20250203T173202Z
LAST-MODIFIED:20250203T182042Z
UID:10013459-1816797600-1816804800@ohoeastoftheriver.com
SUMMARY:W8CED Think Tank- Men's Support Group
DESCRIPTION:
URL:https://ohoeastoftheriver.com/announcement/w8ced-think-tank-mens-support-group/2027-07-28/
LOCATION:Black Worker Center\, 2500 Martin Luther King Jr. Ave SE\, Washington\, DC\, 20020\, United States
CATEGORIES:W8CED
ATTACH;FMTTYPE=image/png:https://ohoeastoftheriver.com/wp-content/uploads/2025/02/W8CED-Think-Tank-Mens-Support-Group-header.png
END:VEVENT
BEGIN:VEVENT
DTSTART;TZID=America/New_York:20270818T180000
DTEND;TZID=America/New_York:20270818T200000
DTSTAMP:20260420T201149
CREATED:20250203T173202Z
LAST-MODIFIED:20250203T182042Z
UID:10013460-1818612000-1818619200@ohoeastoftheriver.com
SUMMARY:W8CED Think Tank- Men's Support Group
DESCRIPTION:
URL:https://ohoeastoftheriver.com/announcement/w8ced-think-tank-mens-support-group/2027-08-18/
LOCATION:Black Worker Center\, 2500 Martin Luther King Jr. Ave SE\, Washington\, DC\, 20020\, United States
CATEGORIES:W8CED
ATTACH;FMTTYPE=image/png:https://ohoeastoftheriver.com/wp-content/uploads/2025/02/W8CED-Think-Tank-Mens-Support-Group-header.png
END:VEVENT
BEGIN:VEVENT
DTSTART;TZID=America/New_York:20270908T180000
DTEND;TZID=America/New_York:20270908T200000
DTSTAMP:20260420T201149
CREATED:20250203T173202Z
LAST-MODIFIED:20250203T182042Z
UID:10013461-1820426400-1820433600@ohoeastoftheriver.com
SUMMARY:W8CED Think Tank- Men's Support Group
DESCRIPTION:
URL:https://ohoeastoftheriver.com/announcement/w8ced-think-tank-mens-support-group/2027-09-08/
LOCATION:Black Worker Center\, 2500 Martin Luther King Jr. Ave SE\, Washington\, DC\, 20020\, United States
CATEGORIES:W8CED
ATTACH;FMTTYPE=image/png:https://ohoeastoftheriver.com/wp-content/uploads/2025/02/W8CED-Think-Tank-Mens-Support-Group-header.png
END:VEVENT
BEGIN:VEVENT
DTSTART;TZID=America/New_York:20270929T180000
DTEND;TZID=America/New_York:20270929T200000
DTSTAMP:20260420T201149
CREATED:20250203T173202Z
LAST-MODIFIED:20250203T182042Z
UID:10013462-1822240800-1822248000@ohoeastoftheriver.com
SUMMARY:W8CED Think Tank- Men's Support Group
DESCRIPTION:
URL:https://ohoeastoftheriver.com/announcement/w8ced-think-tank-mens-support-group/2027-09-29/
LOCATION:Black Worker Center\, 2500 Martin Luther King Jr. Ave SE\, Washington\, DC\, 20020\, United States
CATEGORIES:W8CED
ATTACH;FMTTYPE=image/png:https://ohoeastoftheriver.com/wp-content/uploads/2025/02/W8CED-Think-Tank-Mens-Support-Group-header.png
END:VEVENT
BEGIN:VEVENT
DTSTART;TZID=America/New_York:20271020T180000
DTEND;TZID=America/New_York:20271020T200000
DTSTAMP:20260420T201149
CREATED:20250203T173202Z
LAST-MODIFIED:20250203T182042Z
UID:10013463-1824055200-1824062400@ohoeastoftheriver.com
SUMMARY:W8CED Think Tank- Men's Support Group
DESCRIPTION:
URL:https://ohoeastoftheriver.com/announcement/w8ced-think-tank-mens-support-group/2027-10-20/
LOCATION:Black Worker Center\, 2500 Martin Luther King Jr. Ave SE\, Washington\, DC\, 20020\, United States
CATEGORIES:W8CED
ATTACH;FMTTYPE=image/png:https://ohoeastoftheriver.com/wp-content/uploads/2025/02/W8CED-Think-Tank-Mens-Support-Group-header.png
END:VEVENT
BEGIN:VEVENT
DTSTART;TZID=America/New_York:20271110T180000
DTEND;TZID=America/New_York:20271110T200000
DTSTAMP:20260420T201149
CREATED:20250203T173202Z
LAST-MODIFIED:20250203T182042Z
UID:10013464-1825869600-1825876800@ohoeastoftheriver.com
SUMMARY:W8CED Think Tank- Men's Support Group
DESCRIPTION:
URL:https://ohoeastoftheriver.com/announcement/w8ced-think-tank-mens-support-group/2027-11-10/
LOCATION:Black Worker Center\, 2500 Martin Luther King Jr. Ave SE\, Washington\, DC\, 20020\, United States
CATEGORIES:W8CED
ATTACH;FMTTYPE=image/png:https://ohoeastoftheriver.com/wp-content/uploads/2025/02/W8CED-Think-Tank-Mens-Support-Group-header.png
END:VEVENT
BEGIN:VEVENT
DTSTART;TZID=America/New_York:20271201T180000
DTEND;TZID=America/New_York:20271201T200000
DTSTAMP:20260420T201149
CREATED:20250203T173202Z
LAST-MODIFIED:20250203T182042Z
UID:10013465-1827684000-1827691200@ohoeastoftheriver.com
SUMMARY:W8CED Think Tank- Men's Support Group
DESCRIPTION:
URL:https://ohoeastoftheriver.com/announcement/w8ced-think-tank-mens-support-group/2027-12-01/
LOCATION:Black Worker Center\, 2500 Martin Luther King Jr. Ave SE\, Washington\, DC\, 20020\, United States
CATEGORIES:W8CED
ATTACH;FMTTYPE=image/png:https://ohoeastoftheriver.com/wp-content/uploads/2025/02/W8CED-Think-Tank-Mens-Support-Group-header.png
END:VEVENT
BEGIN:VEVENT
DTSTART;TZID=America/New_York:20271222T180000
DTEND;TZID=America/New_York:20271222T200000
DTSTAMP:20260420T201149
CREATED:20250203T173202Z
LAST-MODIFIED:20250203T182042Z
UID:10013466-1829498400-1829505600@ohoeastoftheriver.com
SUMMARY:W8CED Think Tank- Men's Support Group
DESCRIPTION:
URL:https://ohoeastoftheriver.com/announcement/w8ced-think-tank-mens-support-group/2027-12-22/
LOCATION:Black Worker Center\, 2500 Martin Luther King Jr. Ave SE\, Washington\, DC\, 20020\, United States
CATEGORIES:W8CED
ATTACH;FMTTYPE=image/png:https://ohoeastoftheriver.com/wp-content/uploads/2025/02/W8CED-Think-Tank-Mens-Support-Group-header.png
END:VEVENT
BEGIN:VEVENT
DTSTART;TZID=America/New_York:20280112T180000
DTEND;TZID=America/New_York:20280112T200000
DTSTAMP:20260420T201149
CREATED:20250203T173202Z
LAST-MODIFIED:20250203T182042Z
UID:10013467-1831312800-1831320000@ohoeastoftheriver.com
SUMMARY:W8CED Think Tank- Men's Support Group
DESCRIPTION:
URL:https://ohoeastoftheriver.com/announcement/w8ced-think-tank-mens-support-group/2028-01-12/
LOCATION:Black Worker Center\, 2500 Martin Luther King Jr. Ave SE\, Washington\, DC\, 20020\, United States
CATEGORIES:W8CED
ATTACH;FMTTYPE=image/png:https://ohoeastoftheriver.com/wp-content/uploads/2025/02/W8CED-Think-Tank-Mens-Support-Group-header.png
END:VEVENT
BEGIN:VEVENT
DTSTART;TZID=America/New_York:20280202T180000
DTEND;TZID=America/New_York:20280202T200000
DTSTAMP:20260420T201149
CREATED:20250203T173202Z
LAST-MODIFIED:20250203T182042Z
UID:10013468-1833127200-1833134400@ohoeastoftheriver.com
SUMMARY:W8CED Think Tank- Men's Support Group
DESCRIPTION:
URL:https://ohoeastoftheriver.com/announcement/w8ced-think-tank-mens-support-group/2028-02-02/
LOCATION:Black Worker Center\, 2500 Martin Luther King Jr. Ave SE\, Washington\, DC\, 20020\, United States
CATEGORIES:W8CED
ATTACH;FMTTYPE=image/png:https://ohoeastoftheriver.com/wp-content/uploads/2025/02/W8CED-Think-Tank-Mens-Support-Group-header.png
END:VEVENT
BEGIN:VEVENT
DTSTART;TZID=America/New_York:20280223T180000
DTEND;TZID=America/New_York:20280223T200000
DTSTAMP:20260420T201149
CREATED:20250203T173202Z
LAST-MODIFIED:20250203T182042Z
UID:10013469-1834941600-1834948800@ohoeastoftheriver.com
SUMMARY:W8CED Think Tank- Men's Support Group
DESCRIPTION:
URL:https://ohoeastoftheriver.com/announcement/w8ced-think-tank-mens-support-group/2028-02-23/
LOCATION:Black Worker Center\, 2500 Martin Luther King Jr. Ave SE\, Washington\, DC\, 20020\, United States
CATEGORIES:W8CED
ATTACH;FMTTYPE=image/png:https://ohoeastoftheriver.com/wp-content/uploads/2025/02/W8CED-Think-Tank-Mens-Support-Group-header.png
END:VEVENT
BEGIN:VEVENT
DTSTART;TZID=America/New_York:20280315T180000
DTEND;TZID=America/New_York:20280315T200000
DTSTAMP:20260420T201149
CREATED:20250203T173202Z
LAST-MODIFIED:20250203T182042Z
UID:10013470-1836756000-1836763200@ohoeastoftheriver.com
SUMMARY:W8CED Think Tank- Men's Support Group
DESCRIPTION:
URL:https://ohoeastoftheriver.com/announcement/w8ced-think-tank-mens-support-group/2028-03-15/
LOCATION:Black Worker Center\, 2500 Martin Luther King Jr. Ave SE\, Washington\, DC\, 20020\, United States
CATEGORIES:W8CED
ATTACH;FMTTYPE=image/png:https://ohoeastoftheriver.com/wp-content/uploads/2025/02/W8CED-Think-Tank-Mens-Support-Group-header.png
END:VEVENT
BEGIN:VEVENT
DTSTART;TZID=America/New_York:20280405T180000
DTEND;TZID=America/New_York:20280405T200000
DTSTAMP:20260420T201149
CREATED:20250203T173202Z
LAST-MODIFIED:20250203T182042Z
UID:10013471-1838570400-1838577600@ohoeastoftheriver.com
SUMMARY:W8CED Think Tank- Men's Support Group
DESCRIPTION:
URL:https://ohoeastoftheriver.com/announcement/w8ced-think-tank-mens-support-group/2028-04-05/
LOCATION:Black Worker Center\, 2500 Martin Luther King Jr. Ave SE\, Washington\, DC\, 20020\, United States
CATEGORIES:W8CED
ATTACH;FMTTYPE=image/png:https://ohoeastoftheriver.com/wp-content/uploads/2025/02/W8CED-Think-Tank-Mens-Support-Group-header.png
END:VEVENT
BEGIN:VEVENT
DTSTART;TZID=America/New_York:20280426T180000
DTEND;TZID=America/New_York:20280426T200000
DTSTAMP:20260420T201149
CREATED:20250203T173202Z
LAST-MODIFIED:20250203T182042Z
UID:10013472-1840384800-1840392000@ohoeastoftheriver.com
SUMMARY:W8CED Think Tank- Men's Support Group
DESCRIPTION:
URL:https://ohoeastoftheriver.com/announcement/w8ced-think-tank-mens-support-group/2028-04-26/
LOCATION:Black Worker Center\, 2500 Martin Luther King Jr. Ave SE\, Washington\, DC\, 20020\, United States
CATEGORIES:W8CED
ATTACH;FMTTYPE=image/png:https://ohoeastoftheriver.com/wp-content/uploads/2025/02/W8CED-Think-Tank-Mens-Support-Group-header.png
END:VEVENT
BEGIN:VEVENT
DTSTART;TZID=America/New_York:20280517T180000
DTEND;TZID=America/New_York:20280517T200000
DTSTAMP:20260420T201149
CREATED:20250203T173202Z
LAST-MODIFIED:20250203T182042Z
UID:10013473-1842199200-1842206400@ohoeastoftheriver.com
SUMMARY:W8CED Think Tank- Men's Support Group
DESCRIPTION:
URL:https://ohoeastoftheriver.com/announcement/w8ced-think-tank-mens-support-group/2028-05-17/
LOCATION:Black Worker Center\, 2500 Martin Luther King Jr. Ave SE\, Washington\, DC\, 20020\, United States
CATEGORIES:W8CED
ATTACH;FMTTYPE=image/png:https://ohoeastoftheriver.com/wp-content/uploads/2025/02/W8CED-Think-Tank-Mens-Support-Group-header.png
END:VEVENT
BEGIN:VEVENT
DTSTART;TZID=America/New_York:20280607T180000
DTEND;TZID=America/New_York:20280607T200000
DTSTAMP:20260420T201149
CREATED:20250203T173202Z
LAST-MODIFIED:20250203T182042Z
UID:10013474-1844013600-1844020800@ohoeastoftheriver.com
SUMMARY:W8CED Think Tank- Men's Support Group
DESCRIPTION:
URL:https://ohoeastoftheriver.com/announcement/w8ced-think-tank-mens-support-group/2028-06-07/
LOCATION:Black Worker Center\, 2500 Martin Luther King Jr. Ave SE\, Washington\, DC\, 20020\, United States
CATEGORIES:W8CED
ATTACH;FMTTYPE=image/png:https://ohoeastoftheriver.com/wp-content/uploads/2025/02/W8CED-Think-Tank-Mens-Support-Group-header.png
END:VEVENT
BEGIN:VEVENT
DTSTART;TZID=America/New_York:20280628T180000
DTEND;TZID=America/New_York:20280628T200000
DTSTAMP:20260420T201149
CREATED:20250203T173202Z
LAST-MODIFIED:20250203T182042Z
UID:10013475-1845828000-1845835200@ohoeastoftheriver.com
SUMMARY:W8CED Think Tank- Men's Support Group
DESCRIPTION:
URL:https://ohoeastoftheriver.com/announcement/w8ced-think-tank-mens-support-group/2028-06-28/
LOCATION:Black Worker Center\, 2500 Martin Luther King Jr. Ave SE\, Washington\, DC\, 20020\, United States
CATEGORIES:W8CED
ATTACH;FMTTYPE=image/png:https://ohoeastoftheriver.com/wp-content/uploads/2025/02/W8CED-Think-Tank-Mens-Support-Group-header.png
END:VEVENT
BEGIN:VEVENT
DTSTART;TZID=America/New_York:20280719T180000
DTEND;TZID=America/New_York:20280719T200000
DTSTAMP:20260420T201149
CREATED:20250203T173202Z
LAST-MODIFIED:20250203T182042Z
UID:10013476-1847642400-1847649600@ohoeastoftheriver.com
SUMMARY:W8CED Think Tank- Men's Support Group
DESCRIPTION:
URL:https://ohoeastoftheriver.com/announcement/w8ced-think-tank-mens-support-group/2028-07-19/
LOCATION:Black Worker Center\, 2500 Martin Luther King Jr. Ave SE\, Washington\, DC\, 20020\, United States
CATEGORIES:W8CED
ATTACH;FMTTYPE=image/png:https://ohoeastoftheriver.com/wp-content/uploads/2025/02/W8CED-Think-Tank-Mens-Support-Group-header.png
END:VEVENT
BEGIN:VEVENT
DTSTART;TZID=America/New_York:20280809T180000
DTEND;TZID=America/New_York:20280809T200000
DTSTAMP:20260420T201149
CREATED:20250203T173202Z
LAST-MODIFIED:20250203T182042Z
UID:10013477-1849456800-1849464000@ohoeastoftheriver.com
SUMMARY:W8CED Think Tank- Men's Support Group
DESCRIPTION:
URL:https://ohoeastoftheriver.com/announcement/w8ced-think-tank-mens-support-group/2028-08-09/
LOCATION:Black Worker Center\, 2500 Martin Luther King Jr. Ave SE\, Washington\, DC\, 20020\, United States
CATEGORIES:W8CED
ATTACH;FMTTYPE=image/png:https://ohoeastoftheriver.com/wp-content/uploads/2025/02/W8CED-Think-Tank-Mens-Support-Group-header.png
END:VEVENT
BEGIN:VEVENT
DTSTART;TZID=America/New_York:20280830T180000
DTEND;TZID=America/New_York:20280830T200000
DTSTAMP:20260420T201149
CREATED:20250203T173202Z
LAST-MODIFIED:20250203T182042Z
UID:10013478-1851271200-1851278400@ohoeastoftheriver.com
SUMMARY:W8CED Think Tank- Men's Support Group
DESCRIPTION:
URL:https://ohoeastoftheriver.com/announcement/w8ced-think-tank-mens-support-group/2028-08-30/
LOCATION:Black Worker Center\, 2500 Martin Luther King Jr. Ave SE\, Washington\, DC\, 20020\, United States
CATEGORIES:W8CED
ATTACH;FMTTYPE=image/png:https://ohoeastoftheriver.com/wp-content/uploads/2025/02/W8CED-Think-Tank-Mens-Support-Group-header.png
END:VEVENT
END:VCALENDAR