BEGIN:VCALENDAR
VERSION:2.0
PRODID:-//OHO East of The River - ECPv6.15.18//NONSGML v1.0//EN
CALSCALE:GREGORIAN
METHOD:PUBLISH
X-WR-CALNAME:OHO East of The River
X-ORIGINAL-URL:https://ohoeastoftheriver.com
X-WR-CALDESC:Events for OHO East of The River
REFRESH-INTERVAL;VALUE=DURATION:PT1H
X-Robots-Tag:noindex
X-PUBLISHED-TTL:PT1H
BEGIN:VTIMEZONE
TZID:America/New_York
BEGIN:DAYLIGHT
TZOFFSETFROM:-0500
TZOFFSETTO:-0400
TZNAME:EDT
DTSTART:20250309T070000
END:DAYLIGHT
BEGIN:STANDARD
TZOFFSETFROM:-0400
TZOFFSETTO:-0500
TZNAME:EST
DTSTART:20251102T060000
END:STANDARD
BEGIN:DAYLIGHT
TZOFFSETFROM:-0500
TZOFFSETTO:-0400
TZNAME:EDT
DTSTART:20260308T070000
END:DAYLIGHT
BEGIN:STANDARD
TZOFFSETFROM:-0400
TZOFFSETTO:-0500
TZNAME:EST
DTSTART:20261101T060000
END:STANDARD
BEGIN:DAYLIGHT
TZOFFSETFROM:-0500
TZOFFSETTO:-0400
TZNAME:EDT
DTSTART:20270314T070000
END:DAYLIGHT
BEGIN:STANDARD
TZOFFSETFROM:-0400
TZOFFSETTO:-0500
TZNAME:EST
DTSTART:20271107T060000
END:STANDARD
END:VTIMEZONE
BEGIN:VEVENT
DTSTART;TZID=America/New_York:20261013T180000
DTEND;TZID=America/New_York:20261013T190000
DTSTAMP:20260421T074129
CREATED:20250502T150012Z
LAST-MODIFIED:20250502T150012Z
UID:10018153-1791914400-1791918000@ohoeastoftheriver.com
SUMMARY:Community Changemakers Book Club
DESCRIPTION:Through our conversations about the texts we read\, the space is open for questions\, storytelling and curiosity
URL:https://ohoeastoftheriver.com/announcement/community-changemakers-book-club/2026-10-13/
LOCATION:2375 Elvans Road SE\, 2375 Elvans Road SE\, Washington\, DC\, 20020\, United States
CATEGORIES:Martha’s Table
ATTACH;FMTTYPE=image/png:https://ohoeastoftheriver.com/wp-content/uploads/2024/09/gift-habeshaw-kSTcz5gE018-unsplash-1350x900_header.png
END:VEVENT
BEGIN:VEVENT
DTSTART;TZID=America/New_York:20261014T100000
DTEND;TZID=America/New_York:20261014T110000
DTSTAMP:20260421T074129
CREATED:20260404T155535Z
LAST-MODIFIED:20260404T160108Z
UID:10021544-1791972000-1791975600@ohoeastoftheriver.com
SUMMARY:Senior Fitness
DESCRIPTION:A group-based exercise that contains warm-up\, stepping patterns\, stretching\, strengthening exercises\, and cool-down exercises
URL:https://ohoeastoftheriver.com/announcement/senior-fitness-2/2026-10-14/
LOCATION:2375 Elvans Road SE\, 2375 Elvans Road SE\, Washington\, DC\, 20020\, United States
CATEGORIES:Martha’s Table
ATTACH;FMTTYPE=image/png:https://ohoeastoftheriver.com/wp-content/uploads/2024/09/VAP-Email-Graphic-FINAL-1_header.png
END:VEVENT
BEGIN:VEVENT
DTSTART;TZID=America/New_York:20261015T100000
DTEND;TZID=America/New_York:20261015T110000
DTSTAMP:20260421T074129
CREATED:20260404T155535Z
LAST-MODIFIED:20260404T160108Z
UID:10021545-1792058400-1792062000@ohoeastoftheriver.com
SUMMARY:Senior Fitness
DESCRIPTION:A group-based exercise that contains warm-up\, stepping patterns\, stretching\, strengthening exercises\, and cool-down exercises
URL:https://ohoeastoftheriver.com/announcement/senior-fitness-2/2026-10-15/
LOCATION:2375 Elvans Road SE\, 2375 Elvans Road SE\, Washington\, DC\, 20020\, United States
CATEGORIES:Martha’s Table
ATTACH;FMTTYPE=image/png:https://ohoeastoftheriver.com/wp-content/uploads/2024/09/VAP-Email-Graphic-FINAL-1_header.png
END:VEVENT
BEGIN:VEVENT
DTSTART;TZID=America/New_York:20261016T100000
DTEND;TZID=America/New_York:20261016T110000
DTSTAMP:20260421T074129
CREATED:20260404T155535Z
LAST-MODIFIED:20260404T160108Z
UID:10021546-1792144800-1792148400@ohoeastoftheriver.com
SUMMARY:Senior Fitness
DESCRIPTION:A group-based exercise that contains warm-up\, stepping patterns\, stretching\, strengthening exercises\, and cool-down exercises
URL:https://ohoeastoftheriver.com/announcement/senior-fitness-2/2026-10-16/
LOCATION:2375 Elvans Road SE\, 2375 Elvans Road SE\, Washington\, DC\, 20020\, United States
CATEGORIES:Martha’s Table
ATTACH;FMTTYPE=image/png:https://ohoeastoftheriver.com/wp-content/uploads/2024/09/VAP-Email-Graphic-FINAL-1_header.png
END:VEVENT
BEGIN:VEVENT
DTSTART;TZID=America/New_York:20261019T100000
DTEND;TZID=America/New_York:20261019T110000
DTSTAMP:20260421T074129
CREATED:20260404T155535Z
LAST-MODIFIED:20260404T160108Z
UID:10021547-1792404000-1792407600@ohoeastoftheriver.com
SUMMARY:Senior Fitness
DESCRIPTION:A group-based exercise that contains warm-up\, stepping patterns\, stretching\, strengthening exercises\, and cool-down exercises
URL:https://ohoeastoftheriver.com/announcement/senior-fitness-2/2026-10-19/
LOCATION:2375 Elvans Road SE\, 2375 Elvans Road SE\, Washington\, DC\, 20020\, United States
CATEGORIES:Martha’s Table
ATTACH;FMTTYPE=image/png:https://ohoeastoftheriver.com/wp-content/uploads/2024/09/VAP-Email-Graphic-FINAL-1_header.png
END:VEVENT
BEGIN:VEVENT
DTSTART;TZID=America/New_York:20261019T150000
DTEND;TZID=America/New_York:20261019T180000
DTSTAMP:20260421T074129
CREATED:20250502T143421Z
LAST-MODIFIED:20250502T143757Z
UID:10017631-1792422000-1792432800@ohoeastoftheriver.com
SUMMARY:Teen Lounge Mondays
DESCRIPTION:Tutoring and Homework Help with Hearts of Empowerment
URL:https://ohoeastoftheriver.com/announcement/teen-lounge-mondays/2026-10-19/
LOCATION:2375 Elvans Road SE\, 2375 Elvans Road SE\, Washington\, DC\, 20020\, United States
CATEGORIES:Martha’s Table
ATTACH;FMTTYPE=image/png:https://ohoeastoftheriver.com/wp-content/uploads/2025/02/CHY_5865-scaled-1.png
END:VEVENT
BEGIN:VEVENT
DTSTART;TZID=America/New_York:20261020T100000
DTEND;TZID=America/New_York:20261020T110000
DTSTAMP:20260421T074129
CREATED:20260404T155535Z
LAST-MODIFIED:20260404T160108Z
UID:10021548-1792490400-1792494000@ohoeastoftheriver.com
SUMMARY:Senior Fitness
DESCRIPTION:A group-based exercise that contains warm-up\, stepping patterns\, stretching\, strengthening exercises\, and cool-down exercises
URL:https://ohoeastoftheriver.com/announcement/senior-fitness-2/2026-10-20/
LOCATION:2375 Elvans Road SE\, 2375 Elvans Road SE\, Washington\, DC\, 20020\, United States
CATEGORIES:Martha’s Table
ATTACH;FMTTYPE=image/png:https://ohoeastoftheriver.com/wp-content/uploads/2024/09/VAP-Email-Graphic-FINAL-1_header.png
END:VEVENT
BEGIN:VEVENT
DTSTART;TZID=America/New_York:20261020T180000
DTEND;TZID=America/New_York:20261020T190000
DTSTAMP:20260421T074129
CREATED:20250502T150012Z
LAST-MODIFIED:20250502T150012Z
UID:10018154-1792519200-1792522800@ohoeastoftheriver.com
SUMMARY:Community Changemakers Book Club
DESCRIPTION:Through our conversations about the texts we read\, the space is open for questions\, storytelling and curiosity
URL:https://ohoeastoftheriver.com/announcement/community-changemakers-book-club/2026-10-20/
LOCATION:2375 Elvans Road SE\, 2375 Elvans Road SE\, Washington\, DC\, 20020\, United States
CATEGORIES:Martha’s Table
ATTACH;FMTTYPE=image/png:https://ohoeastoftheriver.com/wp-content/uploads/2024/09/gift-habeshaw-kSTcz5gE018-unsplash-1350x900_header.png
END:VEVENT
BEGIN:VEVENT
DTSTART;TZID=America/New_York:20261021T100000
DTEND;TZID=America/New_York:20261021T110000
DTSTAMP:20260421T074129
CREATED:20260404T155535Z
LAST-MODIFIED:20260404T160108Z
UID:10021549-1792576800-1792580400@ohoeastoftheriver.com
SUMMARY:Senior Fitness
DESCRIPTION:A group-based exercise that contains warm-up\, stepping patterns\, stretching\, strengthening exercises\, and cool-down exercises
URL:https://ohoeastoftheriver.com/announcement/senior-fitness-2/2026-10-21/
LOCATION:2375 Elvans Road SE\, 2375 Elvans Road SE\, Washington\, DC\, 20020\, United States
CATEGORIES:Martha’s Table
ATTACH;FMTTYPE=image/png:https://ohoeastoftheriver.com/wp-content/uploads/2024/09/VAP-Email-Graphic-FINAL-1_header.png
END:VEVENT
BEGIN:VEVENT
DTSTART;TZID=America/New_York:20261022T100000
DTEND;TZID=America/New_York:20261022T110000
DTSTAMP:20260421T074129
CREATED:20260404T155535Z
LAST-MODIFIED:20260404T160108Z
UID:10021550-1792663200-1792666800@ohoeastoftheriver.com
SUMMARY:Senior Fitness
DESCRIPTION:A group-based exercise that contains warm-up\, stepping patterns\, stretching\, strengthening exercises\, and cool-down exercises
URL:https://ohoeastoftheriver.com/announcement/senior-fitness-2/2026-10-22/
LOCATION:2375 Elvans Road SE\, 2375 Elvans Road SE\, Washington\, DC\, 20020\, United States
CATEGORIES:Martha’s Table
ATTACH;FMTTYPE=image/png:https://ohoeastoftheriver.com/wp-content/uploads/2024/09/VAP-Email-Graphic-FINAL-1_header.png
END:VEVENT
BEGIN:VEVENT
DTSTART;TZID=America/New_York:20261023T100000
DTEND;TZID=America/New_York:20261023T110000
DTSTAMP:20260421T074129
CREATED:20260404T155535Z
LAST-MODIFIED:20260404T160108Z
UID:10021551-1792749600-1792753200@ohoeastoftheriver.com
SUMMARY:Senior Fitness
DESCRIPTION:A group-based exercise that contains warm-up\, stepping patterns\, stretching\, strengthening exercises\, and cool-down exercises
URL:https://ohoeastoftheriver.com/announcement/senior-fitness-2/2026-10-23/
LOCATION:2375 Elvans Road SE\, 2375 Elvans Road SE\, Washington\, DC\, 20020\, United States
CATEGORIES:Martha’s Table
ATTACH;FMTTYPE=image/png:https://ohoeastoftheriver.com/wp-content/uploads/2024/09/VAP-Email-Graphic-FINAL-1_header.png
END:VEVENT
BEGIN:VEVENT
DTSTART;TZID=America/New_York:20261026T100000
DTEND;TZID=America/New_York:20261026T110000
DTSTAMP:20260421T074129
CREATED:20260404T155535Z
LAST-MODIFIED:20260404T160108Z
UID:10021552-1793008800-1793012400@ohoeastoftheriver.com
SUMMARY:Senior Fitness
DESCRIPTION:A group-based exercise that contains warm-up\, stepping patterns\, stretching\, strengthening exercises\, and cool-down exercises
URL:https://ohoeastoftheriver.com/announcement/senior-fitness-2/2026-10-26/
LOCATION:2375 Elvans Road SE\, 2375 Elvans Road SE\, Washington\, DC\, 20020\, United States
CATEGORIES:Martha’s Table
ATTACH;FMTTYPE=image/png:https://ohoeastoftheriver.com/wp-content/uploads/2024/09/VAP-Email-Graphic-FINAL-1_header.png
END:VEVENT
BEGIN:VEVENT
DTSTART;TZID=America/New_York:20261026T150000
DTEND;TZID=America/New_York:20261026T180000
DTSTAMP:20260421T074129
CREATED:20250502T143421Z
LAST-MODIFIED:20250502T143757Z
UID:10017632-1793026800-1793037600@ohoeastoftheriver.com
SUMMARY:Teen Lounge Mondays
DESCRIPTION:Tutoring and Homework Help with Hearts of Empowerment
URL:https://ohoeastoftheriver.com/announcement/teen-lounge-mondays/2026-10-26/
LOCATION:2375 Elvans Road SE\, 2375 Elvans Road SE\, Washington\, DC\, 20020\, United States
CATEGORIES:Martha’s Table
ATTACH;FMTTYPE=image/png:https://ohoeastoftheriver.com/wp-content/uploads/2025/02/CHY_5865-scaled-1.png
END:VEVENT
BEGIN:VEVENT
DTSTART;TZID=America/New_York:20261027T100000
DTEND;TZID=America/New_York:20261027T110000
DTSTAMP:20260421T074129
CREATED:20260404T155535Z
LAST-MODIFIED:20260404T160108Z
UID:10021553-1793095200-1793098800@ohoeastoftheriver.com
SUMMARY:Senior Fitness
DESCRIPTION:A group-based exercise that contains warm-up\, stepping patterns\, stretching\, strengthening exercises\, and cool-down exercises
URL:https://ohoeastoftheriver.com/announcement/senior-fitness-2/2026-10-27/
LOCATION:2375 Elvans Road SE\, 2375 Elvans Road SE\, Washington\, DC\, 20020\, United States
CATEGORIES:Martha’s Table
ATTACH;FMTTYPE=image/png:https://ohoeastoftheriver.com/wp-content/uploads/2024/09/VAP-Email-Graphic-FINAL-1_header.png
END:VEVENT
BEGIN:VEVENT
DTSTART;TZID=America/New_York:20261027T180000
DTEND;TZID=America/New_York:20261027T190000
DTSTAMP:20260421T074129
CREATED:20250502T150012Z
LAST-MODIFIED:20250502T150012Z
UID:10018155-1793124000-1793127600@ohoeastoftheriver.com
SUMMARY:Community Changemakers Book Club
DESCRIPTION:Through our conversations about the texts we read\, the space is open for questions\, storytelling and curiosity
URL:https://ohoeastoftheriver.com/announcement/community-changemakers-book-club/2026-10-27/
LOCATION:2375 Elvans Road SE\, 2375 Elvans Road SE\, Washington\, DC\, 20020\, United States
CATEGORIES:Martha’s Table
ATTACH;FMTTYPE=image/png:https://ohoeastoftheriver.com/wp-content/uploads/2024/09/gift-habeshaw-kSTcz5gE018-unsplash-1350x900_header.png
END:VEVENT
BEGIN:VEVENT
DTSTART;TZID=America/New_York:20261028T100000
DTEND;TZID=America/New_York:20261028T110000
DTSTAMP:20260421T074129
CREATED:20260404T155535Z
LAST-MODIFIED:20260404T160108Z
UID:10021554-1793181600-1793185200@ohoeastoftheriver.com
SUMMARY:Senior Fitness
DESCRIPTION:A group-based exercise that contains warm-up\, stepping patterns\, stretching\, strengthening exercises\, and cool-down exercises
URL:https://ohoeastoftheriver.com/announcement/senior-fitness-2/2026-10-28/
LOCATION:2375 Elvans Road SE\, 2375 Elvans Road SE\, Washington\, DC\, 20020\, United States
CATEGORIES:Martha’s Table
ATTACH;FMTTYPE=image/png:https://ohoeastoftheriver.com/wp-content/uploads/2024/09/VAP-Email-Graphic-FINAL-1_header.png
END:VEVENT
BEGIN:VEVENT
DTSTART;TZID=America/New_York:20261029T100000
DTEND;TZID=America/New_York:20261029T110000
DTSTAMP:20260421T074129
CREATED:20260404T155535Z
LAST-MODIFIED:20260404T160108Z
UID:10021555-1793268000-1793271600@ohoeastoftheriver.com
SUMMARY:Senior Fitness
DESCRIPTION:A group-based exercise that contains warm-up\, stepping patterns\, stretching\, strengthening exercises\, and cool-down exercises
URL:https://ohoeastoftheriver.com/announcement/senior-fitness-2/2026-10-29/
LOCATION:2375 Elvans Road SE\, 2375 Elvans Road SE\, Washington\, DC\, 20020\, United States
CATEGORIES:Martha’s Table
ATTACH;FMTTYPE=image/png:https://ohoeastoftheriver.com/wp-content/uploads/2024/09/VAP-Email-Graphic-FINAL-1_header.png
END:VEVENT
BEGIN:VEVENT
DTSTART;TZID=America/New_York:20261030T100000
DTEND;TZID=America/New_York:20261030T110000
DTSTAMP:20260421T074129
CREATED:20260404T155535Z
LAST-MODIFIED:20260404T160108Z
UID:10021556-1793354400-1793358000@ohoeastoftheriver.com
SUMMARY:Senior Fitness
DESCRIPTION:A group-based exercise that contains warm-up\, stepping patterns\, stretching\, strengthening exercises\, and cool-down exercises
URL:https://ohoeastoftheriver.com/announcement/senior-fitness-2/2026-10-30/
LOCATION:2375 Elvans Road SE\, 2375 Elvans Road SE\, Washington\, DC\, 20020\, United States
CATEGORIES:Martha’s Table
ATTACH;FMTTYPE=image/png:https://ohoeastoftheriver.com/wp-content/uploads/2024/09/VAP-Email-Graphic-FINAL-1_header.png
END:VEVENT
BEGIN:VEVENT
DTSTART;TZID=America/New_York:20261102T100000
DTEND;TZID=America/New_York:20261102T110000
DTSTAMP:20260421T074129
CREATED:20260404T155535Z
LAST-MODIFIED:20260404T160108Z
UID:10021557-1793613600-1793617200@ohoeastoftheriver.com
SUMMARY:Senior Fitness
DESCRIPTION:A group-based exercise that contains warm-up\, stepping patterns\, stretching\, strengthening exercises\, and cool-down exercises
URL:https://ohoeastoftheriver.com/announcement/senior-fitness-2/2026-11-02/
LOCATION:2375 Elvans Road SE\, 2375 Elvans Road SE\, Washington\, DC\, 20020\, United States
CATEGORIES:Martha’s Table
ATTACH;FMTTYPE=image/png:https://ohoeastoftheriver.com/wp-content/uploads/2024/09/VAP-Email-Graphic-FINAL-1_header.png
END:VEVENT
BEGIN:VEVENT
DTSTART;TZID=America/New_York:20261102T150000
DTEND;TZID=America/New_York:20261102T180000
DTSTAMP:20260421T074129
CREATED:20250502T143421Z
LAST-MODIFIED:20250502T143757Z
UID:10017633-1793631600-1793642400@ohoeastoftheriver.com
SUMMARY:Teen Lounge Mondays
DESCRIPTION:Tutoring and Homework Help with Hearts of Empowerment
URL:https://ohoeastoftheriver.com/announcement/teen-lounge-mondays/2026-11-02/
LOCATION:2375 Elvans Road SE\, 2375 Elvans Road SE\, Washington\, DC\, 20020\, United States
CATEGORIES:Martha’s Table
ATTACH;FMTTYPE=image/png:https://ohoeastoftheriver.com/wp-content/uploads/2025/02/CHY_5865-scaled-1.png
END:VEVENT
BEGIN:VEVENT
DTSTART;TZID=America/New_York:20261103T100000
DTEND;TZID=America/New_York:20261103T110000
DTSTAMP:20260421T074129
CREATED:20260404T155535Z
LAST-MODIFIED:20260404T160108Z
UID:10021558-1793700000-1793703600@ohoeastoftheriver.com
SUMMARY:Senior Fitness
DESCRIPTION:A group-based exercise that contains warm-up\, stepping patterns\, stretching\, strengthening exercises\, and cool-down exercises
URL:https://ohoeastoftheriver.com/announcement/senior-fitness-2/2026-11-03/
LOCATION:2375 Elvans Road SE\, 2375 Elvans Road SE\, Washington\, DC\, 20020\, United States
CATEGORIES:Martha’s Table
ATTACH;FMTTYPE=image/png:https://ohoeastoftheriver.com/wp-content/uploads/2024/09/VAP-Email-Graphic-FINAL-1_header.png
END:VEVENT
BEGIN:VEVENT
DTSTART;TZID=America/New_York:20261103T180000
DTEND;TZID=America/New_York:20261103T190000
DTSTAMP:20260421T074129
CREATED:20250502T150012Z
LAST-MODIFIED:20250502T150012Z
UID:10018156-1793728800-1793732400@ohoeastoftheriver.com
SUMMARY:Community Changemakers Book Club
DESCRIPTION:Through our conversations about the texts we read\, the space is open for questions\, storytelling and curiosity
URL:https://ohoeastoftheriver.com/announcement/community-changemakers-book-club/2026-11-03/
LOCATION:2375 Elvans Road SE\, 2375 Elvans Road SE\, Washington\, DC\, 20020\, United States
CATEGORIES:Martha’s Table
ATTACH;FMTTYPE=image/png:https://ohoeastoftheriver.com/wp-content/uploads/2024/09/gift-habeshaw-kSTcz5gE018-unsplash-1350x900_header.png
END:VEVENT
BEGIN:VEVENT
DTSTART;TZID=America/New_York:20261104T100000
DTEND;TZID=America/New_York:20261104T110000
DTSTAMP:20260421T074129
CREATED:20260404T155535Z
LAST-MODIFIED:20260404T160108Z
UID:10021559-1793786400-1793790000@ohoeastoftheriver.com
SUMMARY:Senior Fitness
DESCRIPTION:A group-based exercise that contains warm-up\, stepping patterns\, stretching\, strengthening exercises\, and cool-down exercises
URL:https://ohoeastoftheriver.com/announcement/senior-fitness-2/2026-11-04/
LOCATION:2375 Elvans Road SE\, 2375 Elvans Road SE\, Washington\, DC\, 20020\, United States
CATEGORIES:Martha’s Table
ATTACH;FMTTYPE=image/png:https://ohoeastoftheriver.com/wp-content/uploads/2024/09/VAP-Email-Graphic-FINAL-1_header.png
END:VEVENT
BEGIN:VEVENT
DTSTART;TZID=America/New_York:20261105T100000
DTEND;TZID=America/New_York:20261105T110000
DTSTAMP:20260421T074129
CREATED:20260404T155535Z
LAST-MODIFIED:20260404T160108Z
UID:10021560-1793872800-1793876400@ohoeastoftheriver.com
SUMMARY:Senior Fitness
DESCRIPTION:A group-based exercise that contains warm-up\, stepping patterns\, stretching\, strengthening exercises\, and cool-down exercises
URL:https://ohoeastoftheriver.com/announcement/senior-fitness-2/2026-11-05/
LOCATION:2375 Elvans Road SE\, 2375 Elvans Road SE\, Washington\, DC\, 20020\, United States
CATEGORIES:Martha’s Table
ATTACH;FMTTYPE=image/png:https://ohoeastoftheriver.com/wp-content/uploads/2024/09/VAP-Email-Graphic-FINAL-1_header.png
END:VEVENT
BEGIN:VEVENT
DTSTART;TZID=America/New_York:20261106T100000
DTEND;TZID=America/New_York:20261106T110000
DTSTAMP:20260421T074129
CREATED:20260404T155535Z
LAST-MODIFIED:20260404T160108Z
UID:10021561-1793959200-1793962800@ohoeastoftheriver.com
SUMMARY:Senior Fitness
DESCRIPTION:A group-based exercise that contains warm-up\, stepping patterns\, stretching\, strengthening exercises\, and cool-down exercises
URL:https://ohoeastoftheriver.com/announcement/senior-fitness-2/2026-11-06/
LOCATION:2375 Elvans Road SE\, 2375 Elvans Road SE\, Washington\, DC\, 20020\, United States
CATEGORIES:Martha’s Table
ATTACH;FMTTYPE=image/png:https://ohoeastoftheriver.com/wp-content/uploads/2024/09/VAP-Email-Graphic-FINAL-1_header.png
END:VEVENT
BEGIN:VEVENT
DTSTART;TZID=America/New_York:20261109T100000
DTEND;TZID=America/New_York:20261109T110000
DTSTAMP:20260421T074129
CREATED:20260404T155535Z
LAST-MODIFIED:20260404T160108Z
UID:10021562-1794218400-1794222000@ohoeastoftheriver.com
SUMMARY:Senior Fitness
DESCRIPTION:A group-based exercise that contains warm-up\, stepping patterns\, stretching\, strengthening exercises\, and cool-down exercises
URL:https://ohoeastoftheriver.com/announcement/senior-fitness-2/2026-11-09/
LOCATION:2375 Elvans Road SE\, 2375 Elvans Road SE\, Washington\, DC\, 20020\, United States
CATEGORIES:Martha’s Table
ATTACH;FMTTYPE=image/png:https://ohoeastoftheriver.com/wp-content/uploads/2024/09/VAP-Email-Graphic-FINAL-1_header.png
END:VEVENT
BEGIN:VEVENT
DTSTART;TZID=America/New_York:20261109T150000
DTEND;TZID=America/New_York:20261109T180000
DTSTAMP:20260421T074129
CREATED:20250502T143421Z
LAST-MODIFIED:20250502T143757Z
UID:10017634-1794236400-1794247200@ohoeastoftheriver.com
SUMMARY:Teen Lounge Mondays
DESCRIPTION:Tutoring and Homework Help with Hearts of Empowerment
URL:https://ohoeastoftheriver.com/announcement/teen-lounge-mondays/2026-11-09/
LOCATION:2375 Elvans Road SE\, 2375 Elvans Road SE\, Washington\, DC\, 20020\, United States
CATEGORIES:Martha’s Table
ATTACH;FMTTYPE=image/png:https://ohoeastoftheriver.com/wp-content/uploads/2025/02/CHY_5865-scaled-1.png
END:VEVENT
BEGIN:VEVENT
DTSTART;TZID=America/New_York:20261110T100000
DTEND;TZID=America/New_York:20261110T110000
DTSTAMP:20260421T074129
CREATED:20260404T155535Z
LAST-MODIFIED:20260404T160108Z
UID:10021563-1794304800-1794308400@ohoeastoftheriver.com
SUMMARY:Senior Fitness
DESCRIPTION:A group-based exercise that contains warm-up\, stepping patterns\, stretching\, strengthening exercises\, and cool-down exercises
URL:https://ohoeastoftheriver.com/announcement/senior-fitness-2/2026-11-10/
LOCATION:2375 Elvans Road SE\, 2375 Elvans Road SE\, Washington\, DC\, 20020\, United States
CATEGORIES:Martha’s Table
ATTACH;FMTTYPE=image/png:https://ohoeastoftheriver.com/wp-content/uploads/2024/09/VAP-Email-Graphic-FINAL-1_header.png
END:VEVENT
BEGIN:VEVENT
DTSTART;TZID=America/New_York:20261110T180000
DTEND;TZID=America/New_York:20261110T190000
DTSTAMP:20260421T074129
CREATED:20250502T150012Z
LAST-MODIFIED:20250502T150012Z
UID:10018157-1794333600-1794337200@ohoeastoftheriver.com
SUMMARY:Community Changemakers Book Club
DESCRIPTION:Through our conversations about the texts we read\, the space is open for questions\, storytelling and curiosity
URL:https://ohoeastoftheriver.com/announcement/community-changemakers-book-club/2026-11-10/
LOCATION:2375 Elvans Road SE\, 2375 Elvans Road SE\, Washington\, DC\, 20020\, United States
CATEGORIES:Martha’s Table
ATTACH;FMTTYPE=image/png:https://ohoeastoftheriver.com/wp-content/uploads/2024/09/gift-habeshaw-kSTcz5gE018-unsplash-1350x900_header.png
END:VEVENT
BEGIN:VEVENT
DTSTART;TZID=America/New_York:20261111T100000
DTEND;TZID=America/New_York:20261111T110000
DTSTAMP:20260421T074129
CREATED:20260404T155535Z
LAST-MODIFIED:20260404T160108Z
UID:10021564-1794391200-1794394800@ohoeastoftheriver.com
SUMMARY:Senior Fitness
DESCRIPTION:A group-based exercise that contains warm-up\, stepping patterns\, stretching\, strengthening exercises\, and cool-down exercises
URL:https://ohoeastoftheriver.com/announcement/senior-fitness-2/2026-11-11/
LOCATION:2375 Elvans Road SE\, 2375 Elvans Road SE\, Washington\, DC\, 20020\, United States
CATEGORIES:Martha’s Table
ATTACH;FMTTYPE=image/png:https://ohoeastoftheriver.com/wp-content/uploads/2024/09/VAP-Email-Graphic-FINAL-1_header.png
END:VEVENT
END:VCALENDAR