BEGIN:VCALENDAR
VERSION:2.0
PRODID:-//OHO East of The River - ECPv6.15.18//NONSGML v1.0//EN
CALSCALE:GREGORIAN
METHOD:PUBLISH
X-WR-CALNAME:OHO East of The River
X-ORIGINAL-URL:https://ohoeastoftheriver.com
X-WR-CALDESC:Events for OHO East of The River
REFRESH-INTERVAL;VALUE=DURATION:PT1H
X-Robots-Tag:noindex
X-PUBLISHED-TTL:PT1H
BEGIN:VTIMEZONE
TZID:America/New_York
BEGIN:DAYLIGHT
TZOFFSETFROM:-0500
TZOFFSETTO:-0400
TZNAME:EDT
DTSTART:20250309T070000
END:DAYLIGHT
BEGIN:STANDARD
TZOFFSETFROM:-0400
TZOFFSETTO:-0500
TZNAME:EST
DTSTART:20251102T060000
END:STANDARD
BEGIN:DAYLIGHT
TZOFFSETFROM:-0500
TZOFFSETTO:-0400
TZNAME:EDT
DTSTART:20260308T070000
END:DAYLIGHT
BEGIN:STANDARD
TZOFFSETFROM:-0400
TZOFFSETTO:-0500
TZNAME:EST
DTSTART:20261101T060000
END:STANDARD
BEGIN:DAYLIGHT
TZOFFSETFROM:-0500
TZOFFSETTO:-0400
TZNAME:EDT
DTSTART:20270314T070000
END:DAYLIGHT
BEGIN:STANDARD
TZOFFSETFROM:-0400
TZOFFSETTO:-0500
TZNAME:EST
DTSTART:20271107T060000
END:STANDARD
END:VTIMEZONE
BEGIN:VEVENT
DTSTART;TZID=America/New_York:20261103T180000
DTEND;TZID=America/New_York:20261103T190000
DTSTAMP:20260423T062742
CREATED:20250502T150012Z
LAST-MODIFIED:20250502T150012Z
UID:10018156-1793728800-1793732400@ohoeastoftheriver.com
SUMMARY:Community Changemakers Book Club
DESCRIPTION:Through our conversations about the texts we read\, the space is open for questions\, storytelling and curiosity
URL:https://ohoeastoftheriver.com/announcement/community-changemakers-book-club/2026-11-03/
LOCATION:2375 Elvans Road SE\, 2375 Elvans Road SE\, Washington\, DC\, 20020\, United States
CATEGORIES:Martha’s Table
ATTACH;FMTTYPE=image/png:https://ohoeastoftheriver.com/wp-content/uploads/2024/09/gift-habeshaw-kSTcz5gE018-unsplash-1350x900_header.png
END:VEVENT
BEGIN:VEVENT
DTSTART;TZID=America/New_York:20261104T100000
DTEND;TZID=America/New_York:20261104T110000
DTSTAMP:20260423T062742
CREATED:20260404T155535Z
LAST-MODIFIED:20260404T160108Z
UID:10021559-1793786400-1793790000@ohoeastoftheriver.com
SUMMARY:Senior Fitness
DESCRIPTION:A group-based exercise that contains warm-up\, stepping patterns\, stretching\, strengthening exercises\, and cool-down exercises
URL:https://ohoeastoftheriver.com/announcement/senior-fitness-2/2026-11-04/
LOCATION:2375 Elvans Road SE\, 2375 Elvans Road SE\, Washington\, DC\, 20020\, United States
CATEGORIES:Martha’s Table
ATTACH;FMTTYPE=image/png:https://ohoeastoftheriver.com/wp-content/uploads/2024/09/VAP-Email-Graphic-FINAL-1_header.png
END:VEVENT
BEGIN:VEVENT
DTSTART;TZID=America/New_York:20261105T100000
DTEND;TZID=America/New_York:20261105T110000
DTSTAMP:20260423T062742
CREATED:20260404T155535Z
LAST-MODIFIED:20260404T160108Z
UID:10021560-1793872800-1793876400@ohoeastoftheriver.com
SUMMARY:Senior Fitness
DESCRIPTION:A group-based exercise that contains warm-up\, stepping patterns\, stretching\, strengthening exercises\, and cool-down exercises
URL:https://ohoeastoftheriver.com/announcement/senior-fitness-2/2026-11-05/
LOCATION:2375 Elvans Road SE\, 2375 Elvans Road SE\, Washington\, DC\, 20020\, United States
CATEGORIES:Martha’s Table
ATTACH;FMTTYPE=image/png:https://ohoeastoftheriver.com/wp-content/uploads/2024/09/VAP-Email-Graphic-FINAL-1_header.png
END:VEVENT
BEGIN:VEVENT
DTSTART;TZID=America/New_York:20261106T100000
DTEND;TZID=America/New_York:20261106T110000
DTSTAMP:20260423T062742
CREATED:20260404T155535Z
LAST-MODIFIED:20260404T160108Z
UID:10021561-1793959200-1793962800@ohoeastoftheriver.com
SUMMARY:Senior Fitness
DESCRIPTION:A group-based exercise that contains warm-up\, stepping patterns\, stretching\, strengthening exercises\, and cool-down exercises
URL:https://ohoeastoftheriver.com/announcement/senior-fitness-2/2026-11-06/
LOCATION:2375 Elvans Road SE\, 2375 Elvans Road SE\, Washington\, DC\, 20020\, United States
CATEGORIES:Martha’s Table
ATTACH;FMTTYPE=image/png:https://ohoeastoftheriver.com/wp-content/uploads/2024/09/VAP-Email-Graphic-FINAL-1_header.png
END:VEVENT
BEGIN:VEVENT
DTSTART;TZID=America/New_York:20261109T100000
DTEND;TZID=America/New_York:20261109T110000
DTSTAMP:20260423T062742
CREATED:20260404T155535Z
LAST-MODIFIED:20260404T160108Z
UID:10021562-1794218400-1794222000@ohoeastoftheriver.com
SUMMARY:Senior Fitness
DESCRIPTION:A group-based exercise that contains warm-up\, stepping patterns\, stretching\, strengthening exercises\, and cool-down exercises
URL:https://ohoeastoftheriver.com/announcement/senior-fitness-2/2026-11-09/
LOCATION:2375 Elvans Road SE\, 2375 Elvans Road SE\, Washington\, DC\, 20020\, United States
CATEGORIES:Martha’s Table
ATTACH;FMTTYPE=image/png:https://ohoeastoftheriver.com/wp-content/uploads/2024/09/VAP-Email-Graphic-FINAL-1_header.png
END:VEVENT
BEGIN:VEVENT
DTSTART;TZID=America/New_York:20261109T150000
DTEND;TZID=America/New_York:20261109T180000
DTSTAMP:20260423T062742
CREATED:20250502T143421Z
LAST-MODIFIED:20250502T143757Z
UID:10017634-1794236400-1794247200@ohoeastoftheriver.com
SUMMARY:Teen Lounge Mondays
DESCRIPTION:Tutoring and Homework Help with Hearts of Empowerment
URL:https://ohoeastoftheriver.com/announcement/teen-lounge-mondays/2026-11-09/
LOCATION:2375 Elvans Road SE\, 2375 Elvans Road SE\, Washington\, DC\, 20020\, United States
CATEGORIES:Martha’s Table
ATTACH;FMTTYPE=image/png:https://ohoeastoftheriver.com/wp-content/uploads/2025/02/CHY_5865-scaled-1.png
END:VEVENT
BEGIN:VEVENT
DTSTART;TZID=America/New_York:20261110T100000
DTEND;TZID=America/New_York:20261110T110000
DTSTAMP:20260423T062742
CREATED:20260404T155535Z
LAST-MODIFIED:20260404T160108Z
UID:10021563-1794304800-1794308400@ohoeastoftheriver.com
SUMMARY:Senior Fitness
DESCRIPTION:A group-based exercise that contains warm-up\, stepping patterns\, stretching\, strengthening exercises\, and cool-down exercises
URL:https://ohoeastoftheriver.com/announcement/senior-fitness-2/2026-11-10/
LOCATION:2375 Elvans Road SE\, 2375 Elvans Road SE\, Washington\, DC\, 20020\, United States
CATEGORIES:Martha’s Table
ATTACH;FMTTYPE=image/png:https://ohoeastoftheriver.com/wp-content/uploads/2024/09/VAP-Email-Graphic-FINAL-1_header.png
END:VEVENT
BEGIN:VEVENT
DTSTART;TZID=America/New_York:20261110T180000
DTEND;TZID=America/New_York:20261110T190000
DTSTAMP:20260423T062742
CREATED:20250502T150012Z
LAST-MODIFIED:20250502T150012Z
UID:10018157-1794333600-1794337200@ohoeastoftheriver.com
SUMMARY:Community Changemakers Book Club
DESCRIPTION:Through our conversations about the texts we read\, the space is open for questions\, storytelling and curiosity
URL:https://ohoeastoftheriver.com/announcement/community-changemakers-book-club/2026-11-10/
LOCATION:2375 Elvans Road SE\, 2375 Elvans Road SE\, Washington\, DC\, 20020\, United States
CATEGORIES:Martha’s Table
ATTACH;FMTTYPE=image/png:https://ohoeastoftheriver.com/wp-content/uploads/2024/09/gift-habeshaw-kSTcz5gE018-unsplash-1350x900_header.png
END:VEVENT
BEGIN:VEVENT
DTSTART;TZID=America/New_York:20261111T100000
DTEND;TZID=America/New_York:20261111T110000
DTSTAMP:20260423T062742
CREATED:20260404T155535Z
LAST-MODIFIED:20260404T160108Z
UID:10021564-1794391200-1794394800@ohoeastoftheriver.com
SUMMARY:Senior Fitness
DESCRIPTION:A group-based exercise that contains warm-up\, stepping patterns\, stretching\, strengthening exercises\, and cool-down exercises
URL:https://ohoeastoftheriver.com/announcement/senior-fitness-2/2026-11-11/
LOCATION:2375 Elvans Road SE\, 2375 Elvans Road SE\, Washington\, DC\, 20020\, United States
CATEGORIES:Martha’s Table
ATTACH;FMTTYPE=image/png:https://ohoeastoftheriver.com/wp-content/uploads/2024/09/VAP-Email-Graphic-FINAL-1_header.png
END:VEVENT
BEGIN:VEVENT
DTSTART;TZID=America/New_York:20261112T100000
DTEND;TZID=America/New_York:20261112T110000
DTSTAMP:20260423T062742
CREATED:20260404T155535Z
LAST-MODIFIED:20260404T160108Z
UID:10021565-1794477600-1794481200@ohoeastoftheriver.com
SUMMARY:Senior Fitness
DESCRIPTION:A group-based exercise that contains warm-up\, stepping patterns\, stretching\, strengthening exercises\, and cool-down exercises
URL:https://ohoeastoftheriver.com/announcement/senior-fitness-2/2026-11-12/
LOCATION:2375 Elvans Road SE\, 2375 Elvans Road SE\, Washington\, DC\, 20020\, United States
CATEGORIES:Martha’s Table
ATTACH;FMTTYPE=image/png:https://ohoeastoftheriver.com/wp-content/uploads/2024/09/VAP-Email-Graphic-FINAL-1_header.png
END:VEVENT
BEGIN:VEVENT
DTSTART;TZID=America/New_York:20261113T100000
DTEND;TZID=America/New_York:20261113T110000
DTSTAMP:20260423T062742
CREATED:20260404T155535Z
LAST-MODIFIED:20260404T160108Z
UID:10021566-1794564000-1794567600@ohoeastoftheriver.com
SUMMARY:Senior Fitness
DESCRIPTION:A group-based exercise that contains warm-up\, stepping patterns\, stretching\, strengthening exercises\, and cool-down exercises
URL:https://ohoeastoftheriver.com/announcement/senior-fitness-2/2026-11-13/
LOCATION:2375 Elvans Road SE\, 2375 Elvans Road SE\, Washington\, DC\, 20020\, United States
CATEGORIES:Martha’s Table
ATTACH;FMTTYPE=image/png:https://ohoeastoftheriver.com/wp-content/uploads/2024/09/VAP-Email-Graphic-FINAL-1_header.png
END:VEVENT
BEGIN:VEVENT
DTSTART;TZID=America/New_York:20261116T100000
DTEND;TZID=America/New_York:20261116T110000
DTSTAMP:20260423T062742
CREATED:20260404T155535Z
LAST-MODIFIED:20260404T160108Z
UID:10021567-1794823200-1794826800@ohoeastoftheriver.com
SUMMARY:Senior Fitness
DESCRIPTION:A group-based exercise that contains warm-up\, stepping patterns\, stretching\, strengthening exercises\, and cool-down exercises
URL:https://ohoeastoftheriver.com/announcement/senior-fitness-2/2026-11-16/
LOCATION:2375 Elvans Road SE\, 2375 Elvans Road SE\, Washington\, DC\, 20020\, United States
CATEGORIES:Martha’s Table
ATTACH;FMTTYPE=image/png:https://ohoeastoftheriver.com/wp-content/uploads/2024/09/VAP-Email-Graphic-FINAL-1_header.png
END:VEVENT
BEGIN:VEVENT
DTSTART;TZID=America/New_York:20261116T150000
DTEND;TZID=America/New_York:20261116T180000
DTSTAMP:20260423T062742
CREATED:20250502T143421Z
LAST-MODIFIED:20250502T143757Z
UID:10017635-1794841200-1794852000@ohoeastoftheriver.com
SUMMARY:Teen Lounge Mondays
DESCRIPTION:Tutoring and Homework Help with Hearts of Empowerment
URL:https://ohoeastoftheriver.com/announcement/teen-lounge-mondays/2026-11-16/
LOCATION:2375 Elvans Road SE\, 2375 Elvans Road SE\, Washington\, DC\, 20020\, United States
CATEGORIES:Martha’s Table
ATTACH;FMTTYPE=image/png:https://ohoeastoftheriver.com/wp-content/uploads/2025/02/CHY_5865-scaled-1.png
END:VEVENT
BEGIN:VEVENT
DTSTART;TZID=America/New_York:20261117T100000
DTEND;TZID=America/New_York:20261117T110000
DTSTAMP:20260423T062742
CREATED:20260404T155535Z
LAST-MODIFIED:20260404T160108Z
UID:10021568-1794909600-1794913200@ohoeastoftheriver.com
SUMMARY:Senior Fitness
DESCRIPTION:A group-based exercise that contains warm-up\, stepping patterns\, stretching\, strengthening exercises\, and cool-down exercises
URL:https://ohoeastoftheriver.com/announcement/senior-fitness-2/2026-11-17/
LOCATION:2375 Elvans Road SE\, 2375 Elvans Road SE\, Washington\, DC\, 20020\, United States
CATEGORIES:Martha’s Table
ATTACH;FMTTYPE=image/png:https://ohoeastoftheriver.com/wp-content/uploads/2024/09/VAP-Email-Graphic-FINAL-1_header.png
END:VEVENT
BEGIN:VEVENT
DTSTART;TZID=America/New_York:20261117T180000
DTEND;TZID=America/New_York:20261117T190000
DTSTAMP:20260423T062742
CREATED:20250502T150012Z
LAST-MODIFIED:20250502T150012Z
UID:10018158-1794938400-1794942000@ohoeastoftheriver.com
SUMMARY:Community Changemakers Book Club
DESCRIPTION:Through our conversations about the texts we read\, the space is open for questions\, storytelling and curiosity
URL:https://ohoeastoftheriver.com/announcement/community-changemakers-book-club/2026-11-17/
LOCATION:2375 Elvans Road SE\, 2375 Elvans Road SE\, Washington\, DC\, 20020\, United States
CATEGORIES:Martha’s Table
ATTACH;FMTTYPE=image/png:https://ohoeastoftheriver.com/wp-content/uploads/2024/09/gift-habeshaw-kSTcz5gE018-unsplash-1350x900_header.png
END:VEVENT
BEGIN:VEVENT
DTSTART;TZID=America/New_York:20261118T100000
DTEND;TZID=America/New_York:20261118T110000
DTSTAMP:20260423T062742
CREATED:20260404T155535Z
LAST-MODIFIED:20260404T160108Z
UID:10021569-1794996000-1794999600@ohoeastoftheriver.com
SUMMARY:Senior Fitness
DESCRIPTION:A group-based exercise that contains warm-up\, stepping patterns\, stretching\, strengthening exercises\, and cool-down exercises
URL:https://ohoeastoftheriver.com/announcement/senior-fitness-2/2026-11-18/
LOCATION:2375 Elvans Road SE\, 2375 Elvans Road SE\, Washington\, DC\, 20020\, United States
CATEGORIES:Martha’s Table
ATTACH;FMTTYPE=image/png:https://ohoeastoftheriver.com/wp-content/uploads/2024/09/VAP-Email-Graphic-FINAL-1_header.png
END:VEVENT
BEGIN:VEVENT
DTSTART;TZID=America/New_York:20261119T100000
DTEND;TZID=America/New_York:20261119T110000
DTSTAMP:20260423T062742
CREATED:20260404T155535Z
LAST-MODIFIED:20260404T160108Z
UID:10021570-1795082400-1795086000@ohoeastoftheriver.com
SUMMARY:Senior Fitness
DESCRIPTION:A group-based exercise that contains warm-up\, stepping patterns\, stretching\, strengthening exercises\, and cool-down exercises
URL:https://ohoeastoftheriver.com/announcement/senior-fitness-2/2026-11-19/
LOCATION:2375 Elvans Road SE\, 2375 Elvans Road SE\, Washington\, DC\, 20020\, United States
CATEGORIES:Martha’s Table
ATTACH;FMTTYPE=image/png:https://ohoeastoftheriver.com/wp-content/uploads/2024/09/VAP-Email-Graphic-FINAL-1_header.png
END:VEVENT
BEGIN:VEVENT
DTSTART;TZID=America/New_York:20261120T100000
DTEND;TZID=America/New_York:20261120T110000
DTSTAMP:20260423T062742
CREATED:20260404T155535Z
LAST-MODIFIED:20260404T160108Z
UID:10021571-1795168800-1795172400@ohoeastoftheriver.com
SUMMARY:Senior Fitness
DESCRIPTION:A group-based exercise that contains warm-up\, stepping patterns\, stretching\, strengthening exercises\, and cool-down exercises
URL:https://ohoeastoftheriver.com/announcement/senior-fitness-2/2026-11-20/
LOCATION:2375 Elvans Road SE\, 2375 Elvans Road SE\, Washington\, DC\, 20020\, United States
CATEGORIES:Martha’s Table
ATTACH;FMTTYPE=image/png:https://ohoeastoftheriver.com/wp-content/uploads/2024/09/VAP-Email-Graphic-FINAL-1_header.png
END:VEVENT
BEGIN:VEVENT
DTSTART;TZID=America/New_York:20261123T100000
DTEND;TZID=America/New_York:20261123T110000
DTSTAMP:20260423T062742
CREATED:20260404T155535Z
LAST-MODIFIED:20260404T160108Z
UID:10021572-1795428000-1795431600@ohoeastoftheriver.com
SUMMARY:Senior Fitness
DESCRIPTION:A group-based exercise that contains warm-up\, stepping patterns\, stretching\, strengthening exercises\, and cool-down exercises
URL:https://ohoeastoftheriver.com/announcement/senior-fitness-2/2026-11-23/
LOCATION:2375 Elvans Road SE\, 2375 Elvans Road SE\, Washington\, DC\, 20020\, United States
CATEGORIES:Martha’s Table
ATTACH;FMTTYPE=image/png:https://ohoeastoftheriver.com/wp-content/uploads/2024/09/VAP-Email-Graphic-FINAL-1_header.png
END:VEVENT
BEGIN:VEVENT
DTSTART;TZID=America/New_York:20261123T150000
DTEND;TZID=America/New_York:20261123T180000
DTSTAMP:20260423T062742
CREATED:20250502T143421Z
LAST-MODIFIED:20250502T143757Z
UID:10017636-1795446000-1795456800@ohoeastoftheriver.com
SUMMARY:Teen Lounge Mondays
DESCRIPTION:Tutoring and Homework Help with Hearts of Empowerment
URL:https://ohoeastoftheriver.com/announcement/teen-lounge-mondays/2026-11-23/
LOCATION:2375 Elvans Road SE\, 2375 Elvans Road SE\, Washington\, DC\, 20020\, United States
CATEGORIES:Martha’s Table
ATTACH;FMTTYPE=image/png:https://ohoeastoftheriver.com/wp-content/uploads/2025/02/CHY_5865-scaled-1.png
END:VEVENT
BEGIN:VEVENT
DTSTART;TZID=America/New_York:20261124T100000
DTEND;TZID=America/New_York:20261124T110000
DTSTAMP:20260423T062742
CREATED:20260404T155535Z
LAST-MODIFIED:20260404T160108Z
UID:10021573-1795514400-1795518000@ohoeastoftheriver.com
SUMMARY:Senior Fitness
DESCRIPTION:A group-based exercise that contains warm-up\, stepping patterns\, stretching\, strengthening exercises\, and cool-down exercises
URL:https://ohoeastoftheriver.com/announcement/senior-fitness-2/2026-11-24/
LOCATION:2375 Elvans Road SE\, 2375 Elvans Road SE\, Washington\, DC\, 20020\, United States
CATEGORIES:Martha’s Table
ATTACH;FMTTYPE=image/png:https://ohoeastoftheriver.com/wp-content/uploads/2024/09/VAP-Email-Graphic-FINAL-1_header.png
END:VEVENT
BEGIN:VEVENT
DTSTART;TZID=America/New_York:20261124T180000
DTEND;TZID=America/New_York:20261124T190000
DTSTAMP:20260423T062742
CREATED:20250502T150012Z
LAST-MODIFIED:20250502T150012Z
UID:10018159-1795543200-1795546800@ohoeastoftheriver.com
SUMMARY:Community Changemakers Book Club
DESCRIPTION:Through our conversations about the texts we read\, the space is open for questions\, storytelling and curiosity
URL:https://ohoeastoftheriver.com/announcement/community-changemakers-book-club/2026-11-24/
LOCATION:2375 Elvans Road SE\, 2375 Elvans Road SE\, Washington\, DC\, 20020\, United States
CATEGORIES:Martha’s Table
ATTACH;FMTTYPE=image/png:https://ohoeastoftheriver.com/wp-content/uploads/2024/09/gift-habeshaw-kSTcz5gE018-unsplash-1350x900_header.png
END:VEVENT
BEGIN:VEVENT
DTSTART;TZID=America/New_York:20261125T100000
DTEND;TZID=America/New_York:20261125T110000
DTSTAMP:20260423T062742
CREATED:20260404T155535Z
LAST-MODIFIED:20260404T160108Z
UID:10021574-1795600800-1795604400@ohoeastoftheriver.com
SUMMARY:Senior Fitness
DESCRIPTION:A group-based exercise that contains warm-up\, stepping patterns\, stretching\, strengthening exercises\, and cool-down exercises
URL:https://ohoeastoftheriver.com/announcement/senior-fitness-2/2026-11-25/
LOCATION:2375 Elvans Road SE\, 2375 Elvans Road SE\, Washington\, DC\, 20020\, United States
CATEGORIES:Martha’s Table
ATTACH;FMTTYPE=image/png:https://ohoeastoftheriver.com/wp-content/uploads/2024/09/VAP-Email-Graphic-FINAL-1_header.png
END:VEVENT
BEGIN:VEVENT
DTSTART;TZID=America/New_York:20261126T100000
DTEND;TZID=America/New_York:20261126T110000
DTSTAMP:20260423T062742
CREATED:20260404T155535Z
LAST-MODIFIED:20260404T160108Z
UID:10021575-1795687200-1795690800@ohoeastoftheriver.com
SUMMARY:Senior Fitness
DESCRIPTION:A group-based exercise that contains warm-up\, stepping patterns\, stretching\, strengthening exercises\, and cool-down exercises
URL:https://ohoeastoftheriver.com/announcement/senior-fitness-2/2026-11-26/
LOCATION:2375 Elvans Road SE\, 2375 Elvans Road SE\, Washington\, DC\, 20020\, United States
CATEGORIES:Martha’s Table
ATTACH;FMTTYPE=image/png:https://ohoeastoftheriver.com/wp-content/uploads/2024/09/VAP-Email-Graphic-FINAL-1_header.png
END:VEVENT
BEGIN:VEVENT
DTSTART;TZID=America/New_York:20261127T100000
DTEND;TZID=America/New_York:20261127T110000
DTSTAMP:20260423T062742
CREATED:20260404T155535Z
LAST-MODIFIED:20260404T160108Z
UID:10021576-1795773600-1795777200@ohoeastoftheriver.com
SUMMARY:Senior Fitness
DESCRIPTION:A group-based exercise that contains warm-up\, stepping patterns\, stretching\, strengthening exercises\, and cool-down exercises
URL:https://ohoeastoftheriver.com/announcement/senior-fitness-2/2026-11-27/
LOCATION:2375 Elvans Road SE\, 2375 Elvans Road SE\, Washington\, DC\, 20020\, United States
CATEGORIES:Martha’s Table
ATTACH;FMTTYPE=image/png:https://ohoeastoftheriver.com/wp-content/uploads/2024/09/VAP-Email-Graphic-FINAL-1_header.png
END:VEVENT
BEGIN:VEVENT
DTSTART;TZID=America/New_York:20261130T100000
DTEND;TZID=America/New_York:20261130T110000
DTSTAMP:20260423T062742
CREATED:20260404T155535Z
LAST-MODIFIED:20260404T160108Z
UID:10021577-1796032800-1796036400@ohoeastoftheriver.com
SUMMARY:Senior Fitness
DESCRIPTION:A group-based exercise that contains warm-up\, stepping patterns\, stretching\, strengthening exercises\, and cool-down exercises
URL:https://ohoeastoftheriver.com/announcement/senior-fitness-2/2026-11-30/
LOCATION:2375 Elvans Road SE\, 2375 Elvans Road SE\, Washington\, DC\, 20020\, United States
CATEGORIES:Martha’s Table
ATTACH;FMTTYPE=image/png:https://ohoeastoftheriver.com/wp-content/uploads/2024/09/VAP-Email-Graphic-FINAL-1_header.png
END:VEVENT
BEGIN:VEVENT
DTSTART;TZID=America/New_York:20261130T150000
DTEND;TZID=America/New_York:20261130T180000
DTSTAMP:20260423T062742
CREATED:20250502T143421Z
LAST-MODIFIED:20250502T143757Z
UID:10017637-1796050800-1796061600@ohoeastoftheriver.com
SUMMARY:Teen Lounge Mondays
DESCRIPTION:Tutoring and Homework Help with Hearts of Empowerment
URL:https://ohoeastoftheriver.com/announcement/teen-lounge-mondays/2026-11-30/
LOCATION:2375 Elvans Road SE\, 2375 Elvans Road SE\, Washington\, DC\, 20020\, United States
CATEGORIES:Martha’s Table
ATTACH;FMTTYPE=image/png:https://ohoeastoftheriver.com/wp-content/uploads/2025/02/CHY_5865-scaled-1.png
END:VEVENT
BEGIN:VEVENT
DTSTART;TZID=America/New_York:20261201T100000
DTEND;TZID=America/New_York:20261201T110000
DTSTAMP:20260423T062742
CREATED:20260404T155535Z
LAST-MODIFIED:20260404T160108Z
UID:10021578-1796119200-1796122800@ohoeastoftheriver.com
SUMMARY:Senior Fitness
DESCRIPTION:A group-based exercise that contains warm-up\, stepping patterns\, stretching\, strengthening exercises\, and cool-down exercises
URL:https://ohoeastoftheriver.com/announcement/senior-fitness-2/2026-12-01/
LOCATION:2375 Elvans Road SE\, 2375 Elvans Road SE\, Washington\, DC\, 20020\, United States
CATEGORIES:Martha’s Table
ATTACH;FMTTYPE=image/png:https://ohoeastoftheriver.com/wp-content/uploads/2024/09/VAP-Email-Graphic-FINAL-1_header.png
END:VEVENT
BEGIN:VEVENT
DTSTART;TZID=America/New_York:20261201T180000
DTEND;TZID=America/New_York:20261201T190000
DTSTAMP:20260423T062742
CREATED:20250502T150012Z
LAST-MODIFIED:20250502T150012Z
UID:10018160-1796148000-1796151600@ohoeastoftheriver.com
SUMMARY:Community Changemakers Book Club
DESCRIPTION:Through our conversations about the texts we read\, the space is open for questions\, storytelling and curiosity
URL:https://ohoeastoftheriver.com/announcement/community-changemakers-book-club/2026-12-01/
LOCATION:2375 Elvans Road SE\, 2375 Elvans Road SE\, Washington\, DC\, 20020\, United States
CATEGORIES:Martha’s Table
ATTACH;FMTTYPE=image/png:https://ohoeastoftheriver.com/wp-content/uploads/2024/09/gift-habeshaw-kSTcz5gE018-unsplash-1350x900_header.png
END:VEVENT
BEGIN:VEVENT
DTSTART;TZID=America/New_York:20261202T100000
DTEND;TZID=America/New_York:20261202T110000
DTSTAMP:20260423T062742
CREATED:20260404T155535Z
LAST-MODIFIED:20260404T160108Z
UID:10021579-1796205600-1796209200@ohoeastoftheriver.com
SUMMARY:Senior Fitness
DESCRIPTION:A group-based exercise that contains warm-up\, stepping patterns\, stretching\, strengthening exercises\, and cool-down exercises
URL:https://ohoeastoftheriver.com/announcement/senior-fitness-2/2026-12-02/
LOCATION:2375 Elvans Road SE\, 2375 Elvans Road SE\, Washington\, DC\, 20020\, United States
CATEGORIES:Martha’s Table
ATTACH;FMTTYPE=image/png:https://ohoeastoftheriver.com/wp-content/uploads/2024/09/VAP-Email-Graphic-FINAL-1_header.png
END:VEVENT
END:VCALENDAR