BEGIN:VCALENDAR
VERSION:2.0
PRODID:-//OHO East of The River - ECPv6.15.18//NONSGML v1.0//EN
CALSCALE:GREGORIAN
METHOD:PUBLISH
X-ORIGINAL-URL:https://ohoeastoftheriver.com
X-WR-CALDESC:Events for OHO East of The River
REFRESH-INTERVAL;VALUE=DURATION:PT1H
X-Robots-Tag:noindex
X-PUBLISHED-TTL:PT1H
BEGIN:VTIMEZONE
TZID:America/New_York
BEGIN:DAYLIGHT
TZOFFSETFROM:-0500
TZOFFSETTO:-0400
TZNAME:EDT
DTSTART:20250309T070000
END:DAYLIGHT
BEGIN:STANDARD
TZOFFSETFROM:-0400
TZOFFSETTO:-0500
TZNAME:EST
DTSTART:20251102T060000
END:STANDARD
BEGIN:DAYLIGHT
TZOFFSETFROM:-0500
TZOFFSETTO:-0400
TZNAME:EDT
DTSTART:20260308T070000
END:DAYLIGHT
BEGIN:STANDARD
TZOFFSETFROM:-0400
TZOFFSETTO:-0500
TZNAME:EST
DTSTART:20261101T060000
END:STANDARD
BEGIN:DAYLIGHT
TZOFFSETFROM:-0500
TZOFFSETTO:-0400
TZNAME:EDT
DTSTART:20270314T070000
END:DAYLIGHT
BEGIN:STANDARD
TZOFFSETFROM:-0400
TZOFFSETTO:-0500
TZNAME:EST
DTSTART:20271107T060000
END:STANDARD
END:VTIMEZONE
BEGIN:VEVENT
DTSTART;TZID=America/New_York:20261123T150000
DTEND;TZID=America/New_York:20261123T180000
DTSTAMP:20260425T062105
CREATED:20250502T143421Z
LAST-MODIFIED:20250502T143757Z
UID:10017636-1795446000-1795456800@ohoeastoftheriver.com
SUMMARY:Teen Lounge Mondays
DESCRIPTION:Tutoring and Homework Help with Hearts of Empowerment
URL:https://ohoeastoftheriver.com/announcement/teen-lounge-mondays/2026-11-23/
LOCATION:2375 Elvans Road SE\, 2375 Elvans Road SE\, Washington\, DC\, 20020\, United States
CATEGORIES:Martha’s Table
ATTACH;FMTTYPE=image/png:https://ohoeastoftheriver.com/wp-content/uploads/2025/02/CHY_5865-scaled-1.png
END:VEVENT
BEGIN:VEVENT
DTSTART;TZID=America/New_York:20261124T100000
DTEND;TZID=America/New_York:20261124T110000
DTSTAMP:20260425T062105
CREATED:20260404T155535Z
LAST-MODIFIED:20260404T160108Z
UID:10021573-1795514400-1795518000@ohoeastoftheriver.com
SUMMARY:Senior Fitness
DESCRIPTION:A group-based exercise that contains warm-up\, stepping patterns\, stretching\, strengthening exercises\, and cool-down exercises
URL:https://ohoeastoftheriver.com/announcement/senior-fitness-2/2026-11-24/
LOCATION:2375 Elvans Road SE\, 2375 Elvans Road SE\, Washington\, DC\, 20020\, United States
CATEGORIES:Martha’s Table
ATTACH;FMTTYPE=image/png:https://ohoeastoftheriver.com/wp-content/uploads/2024/09/VAP-Email-Graphic-FINAL-1_header.png
END:VEVENT
BEGIN:VEVENT
DTSTART;TZID=America/New_York:20261124T180000
DTEND;TZID=America/New_York:20261124T190000
DTSTAMP:20260425T062105
CREATED:20250502T150012Z
LAST-MODIFIED:20250502T150012Z
UID:10018159-1795543200-1795546800@ohoeastoftheriver.com
SUMMARY:Community Changemakers Book Club
DESCRIPTION:Through our conversations about the texts we read\, the space is open for questions\, storytelling and curiosity
URL:https://ohoeastoftheriver.com/announcement/community-changemakers-book-club/2026-11-24/
LOCATION:2375 Elvans Road SE\, 2375 Elvans Road SE\, Washington\, DC\, 20020\, United States
CATEGORIES:Martha’s Table
ATTACH;FMTTYPE=image/png:https://ohoeastoftheriver.com/wp-content/uploads/2024/09/gift-habeshaw-kSTcz5gE018-unsplash-1350x900_header.png
END:VEVENT
BEGIN:VEVENT
DTSTART;TZID=America/New_York:20261125T100000
DTEND;TZID=America/New_York:20261125T110000
DTSTAMP:20260425T062105
CREATED:20260404T155535Z
LAST-MODIFIED:20260404T160108Z
UID:10021574-1795600800-1795604400@ohoeastoftheriver.com
SUMMARY:Senior Fitness
DESCRIPTION:A group-based exercise that contains warm-up\, stepping patterns\, stretching\, strengthening exercises\, and cool-down exercises
URL:https://ohoeastoftheriver.com/announcement/senior-fitness-2/2026-11-25/
LOCATION:2375 Elvans Road SE\, 2375 Elvans Road SE\, Washington\, DC\, 20020\, United States
CATEGORIES:Martha’s Table
ATTACH;FMTTYPE=image/png:https://ohoeastoftheriver.com/wp-content/uploads/2024/09/VAP-Email-Graphic-FINAL-1_header.png
END:VEVENT
BEGIN:VEVENT
DTSTART;TZID=America/New_York:20261126T100000
DTEND;TZID=America/New_York:20261126T110000
DTSTAMP:20260425T062105
CREATED:20260404T155535Z
LAST-MODIFIED:20260404T160108Z
UID:10021575-1795687200-1795690800@ohoeastoftheriver.com
SUMMARY:Senior Fitness
DESCRIPTION:A group-based exercise that contains warm-up\, stepping patterns\, stretching\, strengthening exercises\, and cool-down exercises
URL:https://ohoeastoftheriver.com/announcement/senior-fitness-2/2026-11-26/
LOCATION:2375 Elvans Road SE\, 2375 Elvans Road SE\, Washington\, DC\, 20020\, United States
CATEGORIES:Martha’s Table
ATTACH;FMTTYPE=image/png:https://ohoeastoftheriver.com/wp-content/uploads/2024/09/VAP-Email-Graphic-FINAL-1_header.png
END:VEVENT
BEGIN:VEVENT
DTSTART;TZID=America/New_York:20261127T100000
DTEND;TZID=America/New_York:20261127T110000
DTSTAMP:20260425T062105
CREATED:20260404T155535Z
LAST-MODIFIED:20260404T160108Z
UID:10021576-1795773600-1795777200@ohoeastoftheriver.com
SUMMARY:Senior Fitness
DESCRIPTION:A group-based exercise that contains warm-up\, stepping patterns\, stretching\, strengthening exercises\, and cool-down exercises
URL:https://ohoeastoftheriver.com/announcement/senior-fitness-2/2026-11-27/
LOCATION:2375 Elvans Road SE\, 2375 Elvans Road SE\, Washington\, DC\, 20020\, United States
CATEGORIES:Martha’s Table
ATTACH;FMTTYPE=image/png:https://ohoeastoftheriver.com/wp-content/uploads/2024/09/VAP-Email-Graphic-FINAL-1_header.png
END:VEVENT
BEGIN:VEVENT
DTSTART;TZID=America/New_York:20261130T100000
DTEND;TZID=America/New_York:20261130T110000
DTSTAMP:20260425T062105
CREATED:20260404T155535Z
LAST-MODIFIED:20260404T160108Z
UID:10021577-1796032800-1796036400@ohoeastoftheriver.com
SUMMARY:Senior Fitness
DESCRIPTION:A group-based exercise that contains warm-up\, stepping patterns\, stretching\, strengthening exercises\, and cool-down exercises
URL:https://ohoeastoftheriver.com/announcement/senior-fitness-2/2026-11-30/
LOCATION:2375 Elvans Road SE\, 2375 Elvans Road SE\, Washington\, DC\, 20020\, United States
CATEGORIES:Martha’s Table
ATTACH;FMTTYPE=image/png:https://ohoeastoftheriver.com/wp-content/uploads/2024/09/VAP-Email-Graphic-FINAL-1_header.png
END:VEVENT
BEGIN:VEVENT
DTSTART;TZID=America/New_York:20261130T150000
DTEND;TZID=America/New_York:20261130T180000
DTSTAMP:20260425T062105
CREATED:20250502T143421Z
LAST-MODIFIED:20250502T143757Z
UID:10017637-1796050800-1796061600@ohoeastoftheriver.com
SUMMARY:Teen Lounge Mondays
DESCRIPTION:Tutoring and Homework Help with Hearts of Empowerment
URL:https://ohoeastoftheriver.com/announcement/teen-lounge-mondays/2026-11-30/
LOCATION:2375 Elvans Road SE\, 2375 Elvans Road SE\, Washington\, DC\, 20020\, United States
CATEGORIES:Martha’s Table
ATTACH;FMTTYPE=image/png:https://ohoeastoftheriver.com/wp-content/uploads/2025/02/CHY_5865-scaled-1.png
END:VEVENT
BEGIN:VEVENT
DTSTART;TZID=America/New_York:20261201T100000
DTEND;TZID=America/New_York:20261201T110000
DTSTAMP:20260425T062105
CREATED:20260404T155535Z
LAST-MODIFIED:20260404T160108Z
UID:10021578-1796119200-1796122800@ohoeastoftheriver.com
SUMMARY:Senior Fitness
DESCRIPTION:A group-based exercise that contains warm-up\, stepping patterns\, stretching\, strengthening exercises\, and cool-down exercises
URL:https://ohoeastoftheriver.com/announcement/senior-fitness-2/2026-12-01/
LOCATION:2375 Elvans Road SE\, 2375 Elvans Road SE\, Washington\, DC\, 20020\, United States
CATEGORIES:Martha’s Table
ATTACH;FMTTYPE=image/png:https://ohoeastoftheriver.com/wp-content/uploads/2024/09/VAP-Email-Graphic-FINAL-1_header.png
END:VEVENT
BEGIN:VEVENT
DTSTART;TZID=America/New_York:20261201T180000
DTEND;TZID=America/New_York:20261201T190000
DTSTAMP:20260425T062105
CREATED:20250502T150012Z
LAST-MODIFIED:20250502T150012Z
UID:10018160-1796148000-1796151600@ohoeastoftheriver.com
SUMMARY:Community Changemakers Book Club
DESCRIPTION:Through our conversations about the texts we read\, the space is open for questions\, storytelling and curiosity
URL:https://ohoeastoftheriver.com/announcement/community-changemakers-book-club/2026-12-01/
LOCATION:2375 Elvans Road SE\, 2375 Elvans Road SE\, Washington\, DC\, 20020\, United States
CATEGORIES:Martha’s Table
ATTACH;FMTTYPE=image/png:https://ohoeastoftheriver.com/wp-content/uploads/2024/09/gift-habeshaw-kSTcz5gE018-unsplash-1350x900_header.png
END:VEVENT
BEGIN:VEVENT
DTSTART;TZID=America/New_York:20261202T100000
DTEND;TZID=America/New_York:20261202T110000
DTSTAMP:20260425T062105
CREATED:20260404T155535Z
LAST-MODIFIED:20260404T160108Z
UID:10021579-1796205600-1796209200@ohoeastoftheriver.com
SUMMARY:Senior Fitness
DESCRIPTION:A group-based exercise that contains warm-up\, stepping patterns\, stretching\, strengthening exercises\, and cool-down exercises
URL:https://ohoeastoftheriver.com/announcement/senior-fitness-2/2026-12-02/
LOCATION:2375 Elvans Road SE\, 2375 Elvans Road SE\, Washington\, DC\, 20020\, United States
CATEGORIES:Martha’s Table
ATTACH;FMTTYPE=image/png:https://ohoeastoftheriver.com/wp-content/uploads/2024/09/VAP-Email-Graphic-FINAL-1_header.png
END:VEVENT
BEGIN:VEVENT
DTSTART;TZID=America/New_York:20261203T100000
DTEND;TZID=America/New_York:20261203T110000
DTSTAMP:20260425T062105
CREATED:20260404T155535Z
LAST-MODIFIED:20260404T160108Z
UID:10021580-1796292000-1796295600@ohoeastoftheriver.com
SUMMARY:Senior Fitness
DESCRIPTION:A group-based exercise that contains warm-up\, stepping patterns\, stretching\, strengthening exercises\, and cool-down exercises
URL:https://ohoeastoftheriver.com/announcement/senior-fitness-2/2026-12-03/
LOCATION:2375 Elvans Road SE\, 2375 Elvans Road SE\, Washington\, DC\, 20020\, United States
CATEGORIES:Martha’s Table
ATTACH;FMTTYPE=image/png:https://ohoeastoftheriver.com/wp-content/uploads/2024/09/VAP-Email-Graphic-FINAL-1_header.png
END:VEVENT
BEGIN:VEVENT
DTSTART;TZID=America/New_York:20261204T100000
DTEND;TZID=America/New_York:20261204T110000
DTSTAMP:20260425T062105
CREATED:20260404T155535Z
LAST-MODIFIED:20260404T160108Z
UID:10021581-1796378400-1796382000@ohoeastoftheriver.com
SUMMARY:Senior Fitness
DESCRIPTION:A group-based exercise that contains warm-up\, stepping patterns\, stretching\, strengthening exercises\, and cool-down exercises
URL:https://ohoeastoftheriver.com/announcement/senior-fitness-2/2026-12-04/
LOCATION:2375 Elvans Road SE\, 2375 Elvans Road SE\, Washington\, DC\, 20020\, United States
CATEGORIES:Martha’s Table
ATTACH;FMTTYPE=image/png:https://ohoeastoftheriver.com/wp-content/uploads/2024/09/VAP-Email-Graphic-FINAL-1_header.png
END:VEVENT
BEGIN:VEVENT
DTSTART;TZID=America/New_York:20261207T100000
DTEND;TZID=America/New_York:20261207T110000
DTSTAMP:20260425T062105
CREATED:20260404T155535Z
LAST-MODIFIED:20260404T160108Z
UID:10021582-1796637600-1796641200@ohoeastoftheriver.com
SUMMARY:Senior Fitness
DESCRIPTION:A group-based exercise that contains warm-up\, stepping patterns\, stretching\, strengthening exercises\, and cool-down exercises
URL:https://ohoeastoftheriver.com/announcement/senior-fitness-2/2026-12-07/
LOCATION:2375 Elvans Road SE\, 2375 Elvans Road SE\, Washington\, DC\, 20020\, United States
CATEGORIES:Martha’s Table
ATTACH;FMTTYPE=image/png:https://ohoeastoftheriver.com/wp-content/uploads/2024/09/VAP-Email-Graphic-FINAL-1_header.png
END:VEVENT
BEGIN:VEVENT
DTSTART;TZID=America/New_York:20261207T150000
DTEND;TZID=America/New_York:20261207T180000
DTSTAMP:20260425T062105
CREATED:20250502T143421Z
LAST-MODIFIED:20250502T143757Z
UID:10017638-1796655600-1796666400@ohoeastoftheriver.com
SUMMARY:Teen Lounge Mondays
DESCRIPTION:Tutoring and Homework Help with Hearts of Empowerment
URL:https://ohoeastoftheriver.com/announcement/teen-lounge-mondays/2026-12-07/
LOCATION:2375 Elvans Road SE\, 2375 Elvans Road SE\, Washington\, DC\, 20020\, United States
CATEGORIES:Martha’s Table
ATTACH;FMTTYPE=image/png:https://ohoeastoftheriver.com/wp-content/uploads/2025/02/CHY_5865-scaled-1.png
END:VEVENT
BEGIN:VEVENT
DTSTART;TZID=America/New_York:20261208T100000
DTEND;TZID=America/New_York:20261208T110000
DTSTAMP:20260425T062105
CREATED:20260404T155535Z
LAST-MODIFIED:20260404T160108Z
UID:10021583-1796724000-1796727600@ohoeastoftheriver.com
SUMMARY:Senior Fitness
DESCRIPTION:A group-based exercise that contains warm-up\, stepping patterns\, stretching\, strengthening exercises\, and cool-down exercises
URL:https://ohoeastoftheriver.com/announcement/senior-fitness-2/2026-12-08/
LOCATION:2375 Elvans Road SE\, 2375 Elvans Road SE\, Washington\, DC\, 20020\, United States
CATEGORIES:Martha’s Table
ATTACH;FMTTYPE=image/png:https://ohoeastoftheriver.com/wp-content/uploads/2024/09/VAP-Email-Graphic-FINAL-1_header.png
END:VEVENT
BEGIN:VEVENT
DTSTART;TZID=America/New_York:20261208T180000
DTEND;TZID=America/New_York:20261208T190000
DTSTAMP:20260425T062105
CREATED:20250502T150012Z
LAST-MODIFIED:20250502T150012Z
UID:10018161-1796752800-1796756400@ohoeastoftheriver.com
SUMMARY:Community Changemakers Book Club
DESCRIPTION:Through our conversations about the texts we read\, the space is open for questions\, storytelling and curiosity
URL:https://ohoeastoftheriver.com/announcement/community-changemakers-book-club/2026-12-08/
LOCATION:2375 Elvans Road SE\, 2375 Elvans Road SE\, Washington\, DC\, 20020\, United States
CATEGORIES:Martha’s Table
ATTACH;FMTTYPE=image/png:https://ohoeastoftheriver.com/wp-content/uploads/2024/09/gift-habeshaw-kSTcz5gE018-unsplash-1350x900_header.png
END:VEVENT
BEGIN:VEVENT
DTSTART;TZID=America/New_York:20261209T100000
DTEND;TZID=America/New_York:20261209T110000
DTSTAMP:20260425T062105
CREATED:20260404T155535Z
LAST-MODIFIED:20260404T160108Z
UID:10021584-1796810400-1796814000@ohoeastoftheriver.com
SUMMARY:Senior Fitness
DESCRIPTION:A group-based exercise that contains warm-up\, stepping patterns\, stretching\, strengthening exercises\, and cool-down exercises
URL:https://ohoeastoftheriver.com/announcement/senior-fitness-2/2026-12-09/
LOCATION:2375 Elvans Road SE\, 2375 Elvans Road SE\, Washington\, DC\, 20020\, United States
CATEGORIES:Martha’s Table
ATTACH;FMTTYPE=image/png:https://ohoeastoftheriver.com/wp-content/uploads/2024/09/VAP-Email-Graphic-FINAL-1_header.png
END:VEVENT
BEGIN:VEVENT
DTSTART;TZID=America/New_York:20261210T100000
DTEND;TZID=America/New_York:20261210T110000
DTSTAMP:20260425T062105
CREATED:20260404T155535Z
LAST-MODIFIED:20260404T160108Z
UID:10021585-1796896800-1796900400@ohoeastoftheriver.com
SUMMARY:Senior Fitness
DESCRIPTION:A group-based exercise that contains warm-up\, stepping patterns\, stretching\, strengthening exercises\, and cool-down exercises
URL:https://ohoeastoftheriver.com/announcement/senior-fitness-2/2026-12-10/
LOCATION:2375 Elvans Road SE\, 2375 Elvans Road SE\, Washington\, DC\, 20020\, United States
CATEGORIES:Martha’s Table
ATTACH;FMTTYPE=image/png:https://ohoeastoftheriver.com/wp-content/uploads/2024/09/VAP-Email-Graphic-FINAL-1_header.png
END:VEVENT
BEGIN:VEVENT
DTSTART;TZID=America/New_York:20261211T100000
DTEND;TZID=America/New_York:20261211T110000
DTSTAMP:20260425T062105
CREATED:20260404T155535Z
LAST-MODIFIED:20260404T160108Z
UID:10021586-1796983200-1796986800@ohoeastoftheriver.com
SUMMARY:Senior Fitness
DESCRIPTION:A group-based exercise that contains warm-up\, stepping patterns\, stretching\, strengthening exercises\, and cool-down exercises
URL:https://ohoeastoftheriver.com/announcement/senior-fitness-2/2026-12-11/
LOCATION:2375 Elvans Road SE\, 2375 Elvans Road SE\, Washington\, DC\, 20020\, United States
CATEGORIES:Martha’s Table
ATTACH;FMTTYPE=image/png:https://ohoeastoftheriver.com/wp-content/uploads/2024/09/VAP-Email-Graphic-FINAL-1_header.png
END:VEVENT
BEGIN:VEVENT
DTSTART;TZID=America/New_York:20261214T100000
DTEND;TZID=America/New_York:20261214T110000
DTSTAMP:20260425T062105
CREATED:20260404T155535Z
LAST-MODIFIED:20260404T160108Z
UID:10021587-1797242400-1797246000@ohoeastoftheriver.com
SUMMARY:Senior Fitness
DESCRIPTION:A group-based exercise that contains warm-up\, stepping patterns\, stretching\, strengthening exercises\, and cool-down exercises
URL:https://ohoeastoftheriver.com/announcement/senior-fitness-2/2026-12-14/
LOCATION:2375 Elvans Road SE\, 2375 Elvans Road SE\, Washington\, DC\, 20020\, United States
CATEGORIES:Martha’s Table
ATTACH;FMTTYPE=image/png:https://ohoeastoftheriver.com/wp-content/uploads/2024/09/VAP-Email-Graphic-FINAL-1_header.png
END:VEVENT
BEGIN:VEVENT
DTSTART;TZID=America/New_York:20261214T150000
DTEND;TZID=America/New_York:20261214T180000
DTSTAMP:20260425T062105
CREATED:20250502T143421Z
LAST-MODIFIED:20250502T143757Z
UID:10017639-1797260400-1797271200@ohoeastoftheriver.com
SUMMARY:Teen Lounge Mondays
DESCRIPTION:Tutoring and Homework Help with Hearts of Empowerment
URL:https://ohoeastoftheriver.com/announcement/teen-lounge-mondays/2026-12-14/
LOCATION:2375 Elvans Road SE\, 2375 Elvans Road SE\, Washington\, DC\, 20020\, United States
CATEGORIES:Martha’s Table
ATTACH;FMTTYPE=image/png:https://ohoeastoftheriver.com/wp-content/uploads/2025/02/CHY_5865-scaled-1.png
END:VEVENT
BEGIN:VEVENT
DTSTART;TZID=America/New_York:20261215T100000
DTEND;TZID=America/New_York:20261215T110000
DTSTAMP:20260425T062105
CREATED:20260404T155535Z
LAST-MODIFIED:20260404T160108Z
UID:10021588-1797328800-1797332400@ohoeastoftheriver.com
SUMMARY:Senior Fitness
DESCRIPTION:A group-based exercise that contains warm-up\, stepping patterns\, stretching\, strengthening exercises\, and cool-down exercises
URL:https://ohoeastoftheriver.com/announcement/senior-fitness-2/2026-12-15/
LOCATION:2375 Elvans Road SE\, 2375 Elvans Road SE\, Washington\, DC\, 20020\, United States
CATEGORIES:Martha’s Table
ATTACH;FMTTYPE=image/png:https://ohoeastoftheriver.com/wp-content/uploads/2024/09/VAP-Email-Graphic-FINAL-1_header.png
END:VEVENT
BEGIN:VEVENT
DTSTART;TZID=America/New_York:20261215T180000
DTEND;TZID=America/New_York:20261215T190000
DTSTAMP:20260425T062105
CREATED:20250502T150012Z
LAST-MODIFIED:20250502T150012Z
UID:10018162-1797357600-1797361200@ohoeastoftheriver.com
SUMMARY:Community Changemakers Book Club
DESCRIPTION:Through our conversations about the texts we read\, the space is open for questions\, storytelling and curiosity
URL:https://ohoeastoftheriver.com/announcement/community-changemakers-book-club/2026-12-15/
LOCATION:2375 Elvans Road SE\, 2375 Elvans Road SE\, Washington\, DC\, 20020\, United States
CATEGORIES:Martha’s Table
ATTACH;FMTTYPE=image/png:https://ohoeastoftheriver.com/wp-content/uploads/2024/09/gift-habeshaw-kSTcz5gE018-unsplash-1350x900_header.png
END:VEVENT
BEGIN:VEVENT
DTSTART;TZID=America/New_York:20261216T100000
DTEND;TZID=America/New_York:20261216T110000
DTSTAMP:20260425T062105
CREATED:20260404T155535Z
LAST-MODIFIED:20260404T160108Z
UID:10021589-1797415200-1797418800@ohoeastoftheriver.com
SUMMARY:Senior Fitness
DESCRIPTION:A group-based exercise that contains warm-up\, stepping patterns\, stretching\, strengthening exercises\, and cool-down exercises
URL:https://ohoeastoftheriver.com/announcement/senior-fitness-2/2026-12-16/
LOCATION:2375 Elvans Road SE\, 2375 Elvans Road SE\, Washington\, DC\, 20020\, United States
CATEGORIES:Martha’s Table
ATTACH;FMTTYPE=image/png:https://ohoeastoftheriver.com/wp-content/uploads/2024/09/VAP-Email-Graphic-FINAL-1_header.png
END:VEVENT
BEGIN:VEVENT
DTSTART;TZID=America/New_York:20261217T100000
DTEND;TZID=America/New_York:20261217T110000
DTSTAMP:20260425T062105
CREATED:20260404T155535Z
LAST-MODIFIED:20260404T160108Z
UID:10021590-1797501600-1797505200@ohoeastoftheriver.com
SUMMARY:Senior Fitness
DESCRIPTION:A group-based exercise that contains warm-up\, stepping patterns\, stretching\, strengthening exercises\, and cool-down exercises
URL:https://ohoeastoftheriver.com/announcement/senior-fitness-2/2026-12-17/
LOCATION:2375 Elvans Road SE\, 2375 Elvans Road SE\, Washington\, DC\, 20020\, United States
CATEGORIES:Martha’s Table
ATTACH;FMTTYPE=image/png:https://ohoeastoftheriver.com/wp-content/uploads/2024/09/VAP-Email-Graphic-FINAL-1_header.png
END:VEVENT
BEGIN:VEVENT
DTSTART;TZID=America/New_York:20261218T100000
DTEND;TZID=America/New_York:20261218T110000
DTSTAMP:20260425T062105
CREATED:20260404T155535Z
LAST-MODIFIED:20260404T160108Z
UID:10021591-1797588000-1797591600@ohoeastoftheriver.com
SUMMARY:Senior Fitness
DESCRIPTION:A group-based exercise that contains warm-up\, stepping patterns\, stretching\, strengthening exercises\, and cool-down exercises
URL:https://ohoeastoftheriver.com/announcement/senior-fitness-2/2026-12-18/
LOCATION:2375 Elvans Road SE\, 2375 Elvans Road SE\, Washington\, DC\, 20020\, United States
CATEGORIES:Martha’s Table
ATTACH;FMTTYPE=image/png:https://ohoeastoftheriver.com/wp-content/uploads/2024/09/VAP-Email-Graphic-FINAL-1_header.png
END:VEVENT
BEGIN:VEVENT
DTSTART;TZID=America/New_York:20261221T100000
DTEND;TZID=America/New_York:20261221T110000
DTSTAMP:20260425T062105
CREATED:20260404T155535Z
LAST-MODIFIED:20260404T160108Z
UID:10021592-1797847200-1797850800@ohoeastoftheriver.com
SUMMARY:Senior Fitness
DESCRIPTION:A group-based exercise that contains warm-up\, stepping patterns\, stretching\, strengthening exercises\, and cool-down exercises
URL:https://ohoeastoftheriver.com/announcement/senior-fitness-2/2026-12-21/
LOCATION:2375 Elvans Road SE\, 2375 Elvans Road SE\, Washington\, DC\, 20020\, United States
CATEGORIES:Martha’s Table
ATTACH;FMTTYPE=image/png:https://ohoeastoftheriver.com/wp-content/uploads/2024/09/VAP-Email-Graphic-FINAL-1_header.png
END:VEVENT
BEGIN:VEVENT
DTSTART;TZID=America/New_York:20261221T150000
DTEND;TZID=America/New_York:20261221T180000
DTSTAMP:20260425T062105
CREATED:20250502T143421Z
LAST-MODIFIED:20250502T143757Z
UID:10017640-1797865200-1797876000@ohoeastoftheriver.com
SUMMARY:Teen Lounge Mondays
DESCRIPTION:Tutoring and Homework Help with Hearts of Empowerment
URL:https://ohoeastoftheriver.com/announcement/teen-lounge-mondays/2026-12-21/
LOCATION:2375 Elvans Road SE\, 2375 Elvans Road SE\, Washington\, DC\, 20020\, United States
CATEGORIES:Martha’s Table
ATTACH;FMTTYPE=image/png:https://ohoeastoftheriver.com/wp-content/uploads/2025/02/CHY_5865-scaled-1.png
END:VEVENT
BEGIN:VEVENT
DTSTART;TZID=America/New_York:20261222T100000
DTEND;TZID=America/New_York:20261222T110000
DTSTAMP:20260425T062105
CREATED:20260404T155535Z
LAST-MODIFIED:20260404T160108Z
UID:10021593-1797933600-1797937200@ohoeastoftheriver.com
SUMMARY:Senior Fitness
DESCRIPTION:A group-based exercise that contains warm-up\, stepping patterns\, stretching\, strengthening exercises\, and cool-down exercises
URL:https://ohoeastoftheriver.com/announcement/senior-fitness-2/2026-12-22/
LOCATION:2375 Elvans Road SE\, 2375 Elvans Road SE\, Washington\, DC\, 20020\, United States
CATEGORIES:Martha’s Table
ATTACH;FMTTYPE=image/png:https://ohoeastoftheriver.com/wp-content/uploads/2024/09/VAP-Email-Graphic-FINAL-1_header.png
END:VEVENT
END:VCALENDAR