BEGIN:VCALENDAR
VERSION:2.0
PRODID:-//OHO East of The River - ECPv6.15.18//NONSGML v1.0//EN
CALSCALE:GREGORIAN
METHOD:PUBLISH
X-ORIGINAL-URL:https://ohoeastoftheriver.com
X-WR-CALDESC:Events for OHO East of The River
REFRESH-INTERVAL;VALUE=DURATION:PT1H
X-Robots-Tag:noindex
X-PUBLISHED-TTL:PT1H
BEGIN:VTIMEZONE
TZID:America/New_York
BEGIN:DAYLIGHT
TZOFFSETFROM:-0500
TZOFFSETTO:-0400
TZNAME:EDT
DTSTART:20290311T070000
END:DAYLIGHT
BEGIN:STANDARD
TZOFFSETFROM:-0400
TZOFFSETTO:-0500
TZNAME:EST
DTSTART:20291104T060000
END:STANDARD
BEGIN:DAYLIGHT
TZOFFSETFROM:-0500
TZOFFSETTO:-0400
TZNAME:EDT
DTSTART:20300310T070000
END:DAYLIGHT
BEGIN:STANDARD
TZOFFSETFROM:-0400
TZOFFSETTO:-0500
TZNAME:EST
DTSTART:20301103T060000
END:STANDARD
BEGIN:DAYLIGHT
TZOFFSETFROM:-0500
TZOFFSETTO:-0400
TZNAME:EDT
DTSTART:20310309T070000
END:DAYLIGHT
BEGIN:STANDARD
TZOFFSETFROM:-0400
TZOFFSETTO:-0500
TZNAME:EST
DTSTART:20311102T060000
END:STANDARD
BEGIN:DAYLIGHT
TZOFFSETFROM:-0500
TZOFFSETTO:-0400
TZNAME:EDT
DTSTART:20320314T070000
END:DAYLIGHT
BEGIN:STANDARD
TZOFFSETFROM:-0400
TZOFFSETTO:-0500
TZNAME:EST
DTSTART:20321107T060000
END:STANDARD
END:VTIMEZONE
BEGIN:VEVENT
DTSTART;TZID=America/New_York:20300612T180000
DTEND;TZID=America/New_York:20300612T200000
DTSTAMP:20260420T183452
CREATED:20250203T173202Z
LAST-MODIFIED:20250203T182042Z
UID:10018698-1907517600-1907524800@ohoeastoftheriver.com
SUMMARY:W8CED Think Tank- Men's Support Group
DESCRIPTION:
URL:https://ohoeastoftheriver.com/announcement/w8ced-think-tank-mens-support-group/2030-06-12/
LOCATION:Black Worker Center\, 2500 Martin Luther King Jr. Ave SE\, Washington\, DC\, 20020\, United States
CATEGORIES:W8CED
ATTACH;FMTTYPE=image/png:https://ohoeastoftheriver.com/wp-content/uploads/2025/02/W8CED-Think-Tank-Mens-Support-Group-header.png
END:VEVENT
BEGIN:VEVENT
DTSTART;TZID=America/New_York:20300703T180000
DTEND;TZID=America/New_York:20300703T200000
DTSTAMP:20260420T183452
CREATED:20250203T173202Z
LAST-MODIFIED:20250203T182042Z
UID:10018783-1909332000-1909339200@ohoeastoftheriver.com
SUMMARY:W8CED Think Tank- Men's Support Group
DESCRIPTION:
URL:https://ohoeastoftheriver.com/announcement/w8ced-think-tank-mens-support-group/2030-07-03/
LOCATION:Black Worker Center\, 2500 Martin Luther King Jr. Ave SE\, Washington\, DC\, 20020\, United States
CATEGORIES:W8CED
ATTACH;FMTTYPE=image/png:https://ohoeastoftheriver.com/wp-content/uploads/2025/02/W8CED-Think-Tank-Mens-Support-Group-header.png
END:VEVENT
BEGIN:VEVENT
DTSTART;TZID=America/New_York:20300724T180000
DTEND;TZID=America/New_York:20300724T200000
DTSTAMP:20260420T183452
CREATED:20250203T173202Z
LAST-MODIFIED:20250203T182042Z
UID:10018869-1911146400-1911153600@ohoeastoftheriver.com
SUMMARY:W8CED Think Tank- Men's Support Group
DESCRIPTION:
URL:https://ohoeastoftheriver.com/announcement/w8ced-think-tank-mens-support-group/2030-07-24/
LOCATION:Black Worker Center\, 2500 Martin Luther King Jr. Ave SE\, Washington\, DC\, 20020\, United States
CATEGORIES:W8CED
ATTACH;FMTTYPE=image/png:https://ohoeastoftheriver.com/wp-content/uploads/2025/02/W8CED-Think-Tank-Mens-Support-Group-header.png
END:VEVENT
BEGIN:VEVENT
DTSTART;TZID=America/New_York:20300814T180000
DTEND;TZID=America/New_York:20300814T200000
DTSTAMP:20260420T183452
CREATED:20250203T173202Z
LAST-MODIFIED:20250203T182042Z
UID:10018955-1912960800-1912968000@ohoeastoftheriver.com
SUMMARY:W8CED Think Tank- Men's Support Group
DESCRIPTION:
URL:https://ohoeastoftheriver.com/announcement/w8ced-think-tank-mens-support-group/2030-08-14/
LOCATION:Black Worker Center\, 2500 Martin Luther King Jr. Ave SE\, Washington\, DC\, 20020\, United States
CATEGORIES:W8CED
ATTACH;FMTTYPE=image/png:https://ohoeastoftheriver.com/wp-content/uploads/2025/02/W8CED-Think-Tank-Mens-Support-Group-header.png
END:VEVENT
BEGIN:VEVENT
DTSTART;TZID=America/New_York:20300904T180000
DTEND;TZID=America/New_York:20300904T200000
DTSTAMP:20260420T183452
CREATED:20250203T173202Z
LAST-MODIFIED:20250203T182042Z
UID:10019063-1914775200-1914782400@ohoeastoftheriver.com
SUMMARY:W8CED Think Tank- Men's Support Group
DESCRIPTION:
URL:https://ohoeastoftheriver.com/announcement/w8ced-think-tank-mens-support-group/2030-09-04/
LOCATION:Black Worker Center\, 2500 Martin Luther King Jr. Ave SE\, Washington\, DC\, 20020\, United States
CATEGORIES:W8CED
ATTACH;FMTTYPE=image/png:https://ohoeastoftheriver.com/wp-content/uploads/2025/02/W8CED-Think-Tank-Mens-Support-Group-header.png
END:VEVENT
BEGIN:VEVENT
DTSTART;TZID=America/New_York:20300925T180000
DTEND;TZID=America/New_York:20300925T200000
DTSTAMP:20260420T183452
CREATED:20250203T173202Z
LAST-MODIFIED:20250203T182042Z
UID:10019125-1916589600-1916596800@ohoeastoftheriver.com
SUMMARY:W8CED Think Tank- Men's Support Group
DESCRIPTION:
URL:https://ohoeastoftheriver.com/announcement/w8ced-think-tank-mens-support-group/2030-09-25/
LOCATION:Black Worker Center\, 2500 Martin Luther King Jr. Ave SE\, Washington\, DC\, 20020\, United States
CATEGORIES:W8CED
ATTACH;FMTTYPE=image/png:https://ohoeastoftheriver.com/wp-content/uploads/2025/02/W8CED-Think-Tank-Mens-Support-Group-header.png
END:VEVENT
BEGIN:VEVENT
DTSTART;TZID=America/New_York:20301016T180000
DTEND;TZID=America/New_York:20301016T200000
DTSTAMP:20260420T183452
CREATED:20250203T173202Z
LAST-MODIFIED:20250203T182042Z
UID:10019210-1918404000-1918411200@ohoeastoftheriver.com
SUMMARY:W8CED Think Tank- Men's Support Group
DESCRIPTION:
URL:https://ohoeastoftheriver.com/announcement/w8ced-think-tank-mens-support-group/2030-10-16/
LOCATION:Black Worker Center\, 2500 Martin Luther King Jr. Ave SE\, Washington\, DC\, 20020\, United States
CATEGORIES:W8CED
ATTACH;FMTTYPE=image/png:https://ohoeastoftheriver.com/wp-content/uploads/2025/02/W8CED-Think-Tank-Mens-Support-Group-header.png
END:VEVENT
BEGIN:VEVENT
DTSTART;TZID=America/New_York:20301106T180000
DTEND;TZID=America/New_York:20301106T200000
DTSTAMP:20260420T183452
CREATED:20250203T173202Z
LAST-MODIFIED:20250203T182042Z
UID:10020180-1920218400-1920225600@ohoeastoftheriver.com
SUMMARY:W8CED Think Tank- Men's Support Group
DESCRIPTION:
URL:https://ohoeastoftheriver.com/announcement/w8ced-think-tank-mens-support-group/2030-11-06/
LOCATION:Black Worker Center\, 2500 Martin Luther King Jr. Ave SE\, Washington\, DC\, 20020\, United States
CATEGORIES:W8CED
ATTACH;FMTTYPE=image/png:https://ohoeastoftheriver.com/wp-content/uploads/2025/02/W8CED-Think-Tank-Mens-Support-Group-header.png
END:VEVENT
BEGIN:VEVENT
DTSTART;TZID=America/New_York:20301127T180000
DTEND;TZID=America/New_York:20301127T200000
DTSTAMP:20260420T183452
CREATED:20250203T173202Z
LAST-MODIFIED:20250203T182042Z
UID:10020270-1922032800-1922040000@ohoeastoftheriver.com
SUMMARY:W8CED Think Tank- Men's Support Group
DESCRIPTION:
URL:https://ohoeastoftheriver.com/announcement/w8ced-think-tank-mens-support-group/2030-11-27/
LOCATION:Black Worker Center\, 2500 Martin Luther King Jr. Ave SE\, Washington\, DC\, 20020\, United States
CATEGORIES:W8CED
ATTACH;FMTTYPE=image/png:https://ohoeastoftheriver.com/wp-content/uploads/2025/02/W8CED-Think-Tank-Mens-Support-Group-header.png
END:VEVENT
BEGIN:VEVENT
DTSTART;TZID=America/New_York:20301218T180000
DTEND;TZID=America/New_York:20301218T200000
DTSTAMP:20260420T183452
CREATED:20250203T173202Z
LAST-MODIFIED:20250203T182042Z
UID:10020359-1923847200-1923854400@ohoeastoftheriver.com
SUMMARY:W8CED Think Tank- Men's Support Group
DESCRIPTION:
URL:https://ohoeastoftheriver.com/announcement/w8ced-think-tank-mens-support-group/2030-12-18/
LOCATION:Black Worker Center\, 2500 Martin Luther King Jr. Ave SE\, Washington\, DC\, 20020\, United States
CATEGORIES:W8CED
ATTACH;FMTTYPE=image/png:https://ohoeastoftheriver.com/wp-content/uploads/2025/02/W8CED-Think-Tank-Mens-Support-Group-header.png
END:VEVENT
BEGIN:VEVENT
DTSTART;TZID=America/New_York:20310108T180000
DTEND;TZID=America/New_York:20310108T200000
DTSTAMP:20260420T183452
CREATED:20250203T173202Z
LAST-MODIFIED:20250203T182042Z
UID:10020777-1925661600-1925668800@ohoeastoftheriver.com
SUMMARY:W8CED Think Tank- Men's Support Group
DESCRIPTION:
URL:https://ohoeastoftheriver.com/announcement/w8ced-think-tank-mens-support-group/2031-01-08/
LOCATION:Black Worker Center\, 2500 Martin Luther King Jr. Ave SE\, Washington\, DC\, 20020\, United States
CATEGORIES:W8CED
ATTACH;FMTTYPE=image/png:https://ohoeastoftheriver.com/wp-content/uploads/2025/02/W8CED-Think-Tank-Mens-Support-Group-header.png
END:VEVENT
BEGIN:VEVENT
DTSTART;TZID=America/New_York:20310129T180000
DTEND;TZID=America/New_York:20310129T200000
DTSTAMP:20260420T183452
CREATED:20250203T173202Z
LAST-MODIFIED:20250203T182042Z
UID:10020934-1927476000-1927483200@ohoeastoftheriver.com
SUMMARY:W8CED Think Tank- Men's Support Group
DESCRIPTION:
URL:https://ohoeastoftheriver.com/announcement/w8ced-think-tank-mens-support-group/2031-01-29/
LOCATION:Black Worker Center\, 2500 Martin Luther King Jr. Ave SE\, Washington\, DC\, 20020\, United States
CATEGORIES:W8CED
ATTACH;FMTTYPE=image/png:https://ohoeastoftheriver.com/wp-content/uploads/2025/02/W8CED-Think-Tank-Mens-Support-Group-header.png
END:VEVENT
BEGIN:VEVENT
DTSTART;TZID=America/New_York:20310219T180000
DTEND;TZID=America/New_York:20310219T200000
DTSTAMP:20260420T183452
CREATED:20250203T173202Z
LAST-MODIFIED:20250203T182042Z
UID:10020998-1929290400-1929297600@ohoeastoftheriver.com
SUMMARY:W8CED Think Tank- Men's Support Group
DESCRIPTION:
URL:https://ohoeastoftheriver.com/announcement/w8ced-think-tank-mens-support-group/2031-02-19/
LOCATION:Black Worker Center\, 2500 Martin Luther King Jr. Ave SE\, Washington\, DC\, 20020\, United States
CATEGORIES:W8CED
ATTACH;FMTTYPE=image/png:https://ohoeastoftheriver.com/wp-content/uploads/2025/02/W8CED-Think-Tank-Mens-Support-Group-header.png
END:VEVENT
BEGIN:VEVENT
DTSTART;TZID=America/New_York:20310312T180000
DTEND;TZID=America/New_York:20310312T200000
DTSTAMP:20260420T183452
CREATED:20250203T173202Z
LAST-MODIFIED:20250203T182042Z
UID:10021054-1931104800-1931112000@ohoeastoftheriver.com
SUMMARY:W8CED Think Tank- Men's Support Group
DESCRIPTION:
URL:https://ohoeastoftheriver.com/announcement/w8ced-think-tank-mens-support-group/2031-03-12/
LOCATION:Black Worker Center\, 2500 Martin Luther King Jr. Ave SE\, Washington\, DC\, 20020\, United States
CATEGORIES:W8CED
ATTACH;FMTTYPE=image/png:https://ohoeastoftheriver.com/wp-content/uploads/2025/02/W8CED-Think-Tank-Mens-Support-Group-header.png
END:VEVENT
BEGIN:VEVENT
DTSTART;TZID=America/New_York:20310402T180000
DTEND;TZID=America/New_York:20310402T200000
DTSTAMP:20260420T183452
CREATED:20250203T173202Z
LAST-MODIFIED:20250203T182042Z
UID:10022149-1932919200-1932926400@ohoeastoftheriver.com
SUMMARY:W8CED Think Tank- Men's Support Group
DESCRIPTION:
URL:https://ohoeastoftheriver.com/announcement/w8ced-think-tank-mens-support-group/2031-04-02/
LOCATION:Black Worker Center\, 2500 Martin Luther King Jr. Ave SE\, Washington\, DC\, 20020\, United States
CATEGORIES:W8CED
ATTACH;FMTTYPE=image/png:https://ohoeastoftheriver.com/wp-content/uploads/2025/02/W8CED-Think-Tank-Mens-Support-Group-header.png
END:VEVENT
END:VCALENDAR